BEGIN:VCALENDAR
VERSION:2.0
PRODID:-//ChamberMaster//Event Calendar 2.0//EN
METHOD:PUBLISH
X-PUBLISHED-TTL:P3D
REFRESH-INTERVAL:P3D
CALSCALE:GREGORIAN
BEGIN:VEVENT
DTSTART:20141114T154500Z
DTEND:20141114T180000Z
X-MICROSOFT-CDO-ALLDAYEVENT:FALSE
SUMMARY:November 14\, 2014 - Developing a Culture of Continuous Improvement Pt 3
DESCRIPTION:Developing a Culture of Continuous Improvement (Part 3)\n\nA Manufacturing Industry Series\n\n\n\nIt's a constant struggle\, we are always too busy fighting fires and fixing mistakes (quite often the same mistakes over and over again). How do we find the time to make any substantial improvements to our business. Imagine if every employee in your company was a good problem solver. Imagine your role as coach and resource\, not the solver of all problems. This 3 part series will help you develop your people as problem solvers and put you on the road towards Continuous Improvement.\n\n\n\nTopic: Problem Solving Tools\n\n  Finding the root cause - what is the problem?\n\n  The importance of data.\n\n  Visual is better.\n\n  The A3 process.
X-ALT-DESC;FMTTYPE=text/html:<strong>Developing a Culture of Continuous Improvement</strong> (Part 3)<br />\nA Manufacturing Industry Series<br />\n<br />\nIt&rsquo\;s a constant struggle\, we are always too busy fighting fires and fixing mistakes (quite often the same mistakes over and over again). How do we find the time to make any substantial improvements to our business. Imagine if every employee in your company was a good problem solver. Imagine your role as coach and resource\, not the solver of all problems. This 3 part series will help you develop your people as problem solvers and put you on the road towards Continuous Improvement.<br />\n<br />\n<strong>Topic: Problem Solving Tools</strong><br />\n&bull\; Finding the root cause - what is the problem?<br />\n&bull\; The importance of data.<br />\n&bull\; Visual is better.<br />\n&bull\; The A3 process.
LOCATION:Surrey Board of Trade Conference Room 101 - 14439 104th Ave\, Surrey
UID:e.749.2736
SEQUENCE:3
DTSTAMP:20260425T140345Z
URL:https://business.swrbot.com/events/details/november-14-2014-developing-a-culture-of-continuous-improvement-pt-3-11-14-2014-2736
END:VEVENT

END:VCALENDAR
