BEGIN:VCALENDAR
VERSION:2.0
PRODID:-//ChamberMaster//Event Calendar 2.0//EN
METHOD:PUBLISH
X-PUBLISHED-TTL:P3D
REFRESH-INTERVAL:P3D
CALSCALE:GREGORIAN
BEGIN:VEVENT
DTSTART:20181116T013000Z
DTEND:20181116T040000Z
X-MICROSOFT-CDO-ALLDAYEVENT:FALSE
SUMMARY:November 15\, 2018 - 3rd Surrey Board of Trade Agriculture Industry Reception
DESCRIPTION:Join us for a networking reception to connect key agricultural industry contacts with businesses.\n\n\n\nHear from the Deputy Minsiter of Agriculture\, Wes Shoemaker\, as he talks about Agrifood as an opportunity for economic growth in BC and in Canada.\n\n\n\nHelp us recognize the outstanding achievements of an individual or organization that has made a positive impact to Surrey's agriculture industry as we present them the 2nd Surrey Agriculture Leadership Award!\n\n\nContact us if interested to become a sponsor and exhibitor!\n\n\n\n \nEvent payment is due upon registration. Cancellations for event attendance\, sponsorship\, or exhibitor space will not be refunded. An event registration is considered a commitment to pay. While event registration is non-refundable\, cancellations before three full business days of the event may be eligible for a credit towards a future event. Some exclusions apply.
X-ALT-DESC;FMTTYPE=text/html:Join us for a networking reception to connect key agricultural industry contacts with businesses.<br />\n<br />\nHear from the Deputy Minsiter of Agriculture\, Wes Shoemaker\, as he talks about Agrifood as an opportunity for economic growth in BC and in Canada.<br />\n<br />\nHelp us recognize the outstanding achievements of an individual or organization that has made a positive impact to Surrey&#39\;s agriculture industry as we present them the 2nd Surrey Agriculture Leadership Award!\n<div><br />\nContact us if interested to become a sponsor and exhibitor!<br />\n<br />\n&nbsp\;\n<div style="color: rgb(34\, 34\, 34)\; font-family: Arial\, Helvetica\, sans-serif\; font-size: small\;"><em>Event payment is due upon registration. Cancellations for event attendance\, sponsorship\, or exhibitor space will not be refunded. An event registration is considered a commitment to pay. While event registration is non-refundable\, cancellations before three full business days of the event may be eligible for a credit towards a future event. Some exclusions apply.</em></div>\n</div>\n
LOCATION:Eaglequest Golf Course 7778 152 Street\, Surrey
UID:e.749.6702
SEQUENCE:3
DTSTAMP:20260421T030537Z
URL:https://business.swrbot.com/events/details/november-15-2018-3rd-surrey-board-of-trade-agriculture-industry-reception-11-15-2018-6702
END:VEVENT

END:VCALENDAR
