BEGIN:VCALENDAR
VERSION:2.0
PRODID:-//ChamberMaster//Event Calendar 2.0//EN
METHOD:PUBLISH
X-PUBLISHED-TTL:P3D
REFRESH-INTERVAL:P3D
CALSCALE:GREGORIAN
BEGIN:VEVENT
DTSTART:20171117T020000Z
DTEND:20171117T040000Z
X-MICROSOFT-CDO-ALLDAYEVENT:FALSE
SUMMARY:November 16\, 2017 - 2nd SURREY BOARD OF TRADE Agriculture Industry Reception
DESCRIPTION:Join us for a networking reception to connect key agricultural industry contacts with businesses. The race is on to help this thriving industry through skills development\, business-venture capital support and government advocacy.\n\n\n\nThe Agriculture sector plays a significant role in Surrey's economy\, with Surrey's expansive agricultural land base defining much of the city\, albeit\, roughly 7\,500 acres is under utilized or non-productive. Most of this land is comprised of small parcels. Over 1/3 of land in Surrey (or 9\,290 hectares) is within the Agricultural Land Reserve (ALR)\, which is the provincial zone in which agriculture is recognized as the priority use. Surrey farms accounted for over $167 Million dollars\, and employ over 3\,300 workers of Surrey's labour force.\n\n\n\nHear from Minister Lana Popham as she talks about how her mandate supports innovation and growth within BC's agriculture industry.\n\n\n\nPlus\, help us recognize the outstanding achievements of an individual or organization that has made a positive impact to Surrey's agriculture industry\, as we present them with the inaugural Surrey Agriculture Leadership Award.
X-ALT-DESC;FMTTYPE=text/html:<span style="font-size:14px\;"><span style="font-family:arial\;">Join us for a networking reception to connect key agricultural industry contacts with businesses. The race is on to help this thriving industry through skills development\, business-venture capital support and government advocacy.</span><br />\n<br />\nThe Agriculture sector plays a significant role in Surrey&rsquo\;s economy\, with Surrey&rsquo\;s expansive agricultural land base defining much of the city\, albeit\, roughly 7\,500 acres is under utilized or non-productive. Most of this land is comprised of small parcels. Over 1/3 of land in Surrey (or 9\,290 hectares) is within the Agricultural Land Reserve (ALR)\, which is the provincial zone in which agriculture is recognized as the priority use. Surrey farms accounted for over $167 Million dollars\, and employ over 3\,300 workers of Surrey&rsquo\;s labour force.<br />\n<br />\n<span style="font-family:arial\;">Hear from Minister Lana Popham as she talks about how her mandate supports innovation and growth within BC&#39\;s agriculture industry.<br />\n<br />\nPlus\, help us recognize the outstanding achievements of an individual or organization that has made a positive impact to Surrey&rsquo\;s agriculture industry\, as we present them with the inaugural <strong>Surrey Agriculture Leadership Award</strong>.</span></span>
LOCATION:Kwantlen Polytechnic University 5500 180 Street\, Surrey
UID:e.749.5189
SEQUENCE:3
DTSTAMP:20260421T192653Z
URL:https://business.swrbot.com/events/details/november-16-2017-2nd-surrey-board-of-trade-agriculture-industry-reception-11-16-2017-5189
END:VEVENT

END:VCALENDAR
