BEGIN:VCALENDAR
VERSION:2.0
PRODID:-//ChamberMaster//Event Calendar 2.0//EN
METHOD:PUBLISH
X-PUBLISHED-TTL:P3D
REFRESH-INTERVAL:P3D
CALSCALE:GREGORIAN
BEGIN:VEVENT
DTSTART:20171116T154500Z
DTEND:20171116T180000Z
X-MICROSOFT-CDO-ALLDAYEVENT:FALSE
SUMMARY:November 16\, 2017 - Everything You Need to Know About Mergers and Acquisitions
DESCRIPTION:Discover the full extent of mergers and acquisitions from the initial idea to the closing of the deal. In this workshop\, presented in part by the Business Development Bank of Canada (BDC)\, participants will gain insights into the process (due diligence\, valuation\, tax structuring\, finance) and the do's and don'ts of acquiring businesses.
X-ALT-DESC;FMTTYPE=text/html:<span style="color:#000000"><span style="font-size:12px"><span style="font-family:arial">Discover the full extent of mergers and acquisitions from the initial idea to the closing of the deal. In this workshop\, presented in part by the Business Development Bank of Canada (BDC)\, participants will gain insights into the process (due diligence\, valuation\, tax structuring\, finance) and the do&rsquo\;s and don&rsquo\;ts of acquiring businesses.</span></span></span>
LOCATION:Surrey Board of Trade Conference Room 101-14439 104 Avenue\, Surrey
UID:e.749.5450
SEQUENCE:3
DTSTAMP:20260421T192528Z
URL:https://business.swrbot.com/events/details/november-16-2017-everything-you-need-to-know-about-mergers-and-acquisitions-11-16-2017-5450
END:VEVENT

END:VCALENDAR
