BEGIN:VCALENDAR
VERSION:2.0
PRODID:-//ChamberMaster//Event Calendar 2.0//EN
METHOD:PUBLISH
X-PUBLISHED-TTL:P3D
REFRESH-INTERVAL:P3D
CALSCALE:GREGORIAN
BEGIN:VEVENT
DTSTART;VALUE=DATE:20091117
DTEND;VALUE=DATE:20091118
TRANSP:TRANSPARENT
X-MICROSOFT-CDO-ALLDAYEVENT:TRUE
SUMMARY:November 17\, '09 - Carole James Luncheon
DESCRIPTION:
X-ALT-DESC;FMTTYPE=text/html:
LOCATION:
UID:e.749.1560
SEQUENCE:3
DTSTAMP:20260423T065144Z
URL:https://business.swrbot.com/events/details/november-17-09-carole-james-luncheon-11-17-2009-1560
END:VEVENT

END:VCALENDAR
