BEGIN:VCALENDAR
VERSION:2.0
PRODID:-//ChamberMaster//Event Calendar 2.0//EN
METHOD:PUBLISH
X-PUBLISHED-TTL:P3D
REFRESH-INTERVAL:P3D
CALSCALE:GREGORIAN
BEGIN:VEVENT
DTSTART:20101118T000000Z
DTEND:20101118T010000Z
X-MICROSOFT-CDO-ALLDAYEVENT:FALSE
SUMMARY:November 17\, 2010 - Future Member Orientation
DESCRIPTION:If you've been wondering what the Surrey Board of Trade is all about\, this event is for you. \n\nJoin us as our guest on November 17 and learn how the Surrey Board of Trade can help you and your business. \n\nWe'll have:An overview of the Surrey Board of Trade as an organizationPresentations by our various partners on benefits such as discounted gas\, insurance and other valuable packagesA networking session\, led by a facilitatorWe'll wrap up the day with a fabulous door prize and time for your specific questions.\nSponsored by: Schmidt and Funk Financial Services \n\nMedia Sponsors: The NOW Newspaper and the Indo-Canadian Times International
X-ALT-DESC;FMTTYPE=text/html:<div><div><p>If you&rsquo\;ve been wondering what the Surrey Board of Trade is all about\, this event is for you. <br /><br />Join us as our guest on&nbsp\;November 17&nbsp\;and learn how the Surrey Board of Trade can help you and your business. <br /><br />We&rsquo\;ll have:</p><ul><li>An overview of the Surrey Board of Trade as an organization</li><li>Presentations by our various partners on benefits such as discounted gas\, insurance and other valuable packages</li><li>A networking session\, led by a facilitator</li><li>We&rsquo\;ll wrap up the day with a fabulous door prize and time for your specific questions.</li></ul><p><br /><strong>Sponsored by</strong>: Schmidt and Funk Financial Services <br /><br /><strong>Media Sponsors</strong>: The NOW Newspaper and the Indo-Canadian Times International</p></div></div>
LOCATION:Surrey Board of Trade Conference Room #101 - 14439 104 Avenue\, Surrey
UID:e.749.1649
SEQUENCE:3
DTSTAMP:20260422T114056Z
URL:https://business.swrbot.com/events/details/november-17-2010-future-member-orientation-11-17-2010-1649
END:VEVENT

END:VCALENDAR
