BEGIN:VCALENDAR
VERSION:2.0
PRODID:-//ChamberMaster//Event Calendar 2.0//EN
METHOD:PUBLISH
X-PUBLISHED-TTL:P3D
REFRESH-INTERVAL:P3D
CALSCALE:GREGORIAN
BEGIN:VEVENT
DTSTART:20151118T010000Z
DTEND:20151118T030000Z
X-MICROSOFT-CDO-ALLDAYEVENT:FALSE
SUMMARY:November 17\, 2015 - Business to Business Networking Reception at Semiahmoo House Society
DESCRIPTION:You are invited to network with other members of the community and enjoy food and drinks served by our own catering crew.\n\n\n\nYou will have the opportunity to tour The Treehouse and learn about our plans to promote inclusion.\n\n\n\nSemiahmoo House Society is a non-for-profit organization providing services to people with disabilities and their families in Surrey and White Rock.\n\n\n\nWin great prizes! Make new business contacts!
X-ALT-DESC;FMTTYPE=text/html:<span style="color: rgb(34\, 34\, 34)\; font-family: arial\, sans-serif\; font-size: 12.8000001907349px\; font-style: normal\; font-variant: normal\; font-weight: normal\; letter-spacing: normal\; line-height: normal\; orphans: auto\; text-align: start\; text-indent: 0px\; text-transform: none\; white-space: normal\; widows: auto\; word-spacing: 0px\; -webkit-text-stroke-width: 0px\; display: inline !important\; float: none\; background-color: rgb(255\, 255\, 255)\;">You are invited to network with other members of the community and enjoy food and drinks served by our own catering crew.<br />\n<br />\nYou will have the opportunity to tour The Treehouse and learn about our plans to promote inclusion.<br />\n<br />\nSemiahmoo House Society is a non-for-profit organization providing services to people with disabilities and their families in Surrey and White Rock.<br />\n<br />\n<em>Win great prizes! Make new business contacts!</em></span>
LOCATION:Semiahmoo House Society 15306 24th Avenue\, Surrey www.inclusionsurrey.com Parking at the back of the building and along nearby streets.
UID:e.749.3553
SEQUENCE:3
DTSTAMP:20260423T231223Z
URL:https://business.swrbot.com/events/details/november-17-2015-business-to-business-networking-reception-at-semiahmoo-house-society-11-17-2015-3553
END:VEVENT

END:VCALENDAR
