BEGIN:VCALENDAR
VERSION:2.0
PRODID:-//ChamberMaster//Event Calendar 2.0//EN
METHOD:PUBLISH
X-PUBLISHED-TTL:P3D
REFRESH-INTERVAL:P3D
CALSCALE:GREGORIAN
BEGIN:VEVENT
DTSTART:20151118T170000Z
DTEND:20151118T190000Z
X-MICROSOFT-CDO-ALLDAYEVENT:FALSE
SUMMARY:November 18\, 2015 - Workshop - Doing Business in the U.S.
DESCRIPTION:Doing Business In the U.S.\n\n \nTopics to include:\n\n	Why now is the time to begin selling products to the U.S. market\n	Benefits to selling to the U.S.\n	Know your costs and understand the regulations\n	Understand your market
X-ALT-DESC;FMTTYPE=text/html:<span class="aBn" data-term="goog_1892686949" tabindex="0"><span class="aQJ"><u><strong>Doing Business In the U.S.</strong></u></span></span><br />\n&nbsp\;\n<div><b>Topics to include:</b>\n<ul>\n	<li>Why now is the time to begin selling products to the U.S. market</li>\n	<li><span class="im">Benefits to selling to the U.S.</span></li>\n	<li>Know your costs and understand the regulations</li>\n	<li>Understand your market</li>\n</ul>\n</div>\n
LOCATION:Location: Pacific Customs Brokers 17637 1st Avenue\, Surrey\, BC V3Z 9S1 Parking: Please park in signed area.
UID:e.749.3674
SEQUENCE:3
DTSTAMP:20260423T230428Z
URL:https://business.swrbot.com/events/details/november-18-2015-workshop-doing-business-in-the-u-s-11-18-2015-3674
END:VEVENT

END:VCALENDAR
