BEGIN:VCALENDAR
VERSION:2.0
PRODID:-//ChamberMaster//Event Calendar 2.0//EN
METHOD:PUBLISH
X-PUBLISHED-TTL:P3D
REFRESH-INTERVAL:P3D
CALSCALE:GREGORIAN
BEGIN:VEVENT
DTSTART:20161118T153000Z
DTEND:20161118T173000Z
X-MICROSOFT-CDO-ALLDAYEVENT:FALSE
SUMMARY:November 18\, 2016 - It's All About Energy
DESCRIPTION:No matter the source\, businesses need energy to run: electrical\, gas\, oil\, diesel\, wind-power\, solar panels\, bio-fuels. Further\, we need future workers in all these fields. What are the costs and benefits for the most likely energy sources\, what will change that will occur over time\, and what knowledge will be required to keep our economy humming?\n\n\n\n\n\nEvent payment is due upon registration. Cancellations for event attendance\, sponsorship\, or exhibitor space will not be refunded. An event registration is considered a commitment to pay. While event registration is non-refundable\, cancellations before three full business days of the event may be eligible for a credit towards a future event. Some exclusions apply.
X-ALT-DESC;FMTTYPE=text/html:No matter the source\, businesses need energy to run: electrical\, gas\, oil\, diesel\, wind-power\, solar panels\, bio-fuels. Further\, we need future workers in all these fields. What are the costs and benefits for the most likely energy sources\, what will change that will occur over time\, and what knowledge will be required to keep our economy humming?<br />\n<br />\n<br />\n<em><span style="color: rgb(34\, 34\, 34)\; font-family: Arial\, Helvetica\, sans-serif\; font-size: small\;">Event payment is due upon registration. Cancellations for event attendance\, sponsorship\, or exhibitor space will not be refunded. An event registration is considered a commitment to pay. While event registration is non-refundable\, cancellations before three full business days of the event may be eligible for a credit towards a future event. Some exclusions apply.</span></em>
LOCATION:Guildford Golf Course (7929 152 Street\, Surrey)
UID:e.749.4801
SEQUENCE:3
DTSTAMP:20260422T082002Z
URL:https://business.swrbot.com/events/details/november-18-2016-it-s-all-about-energy-11-18-2016-4801
END:VEVENT

END:VCALENDAR
