BEGIN:VCALENDAR
VERSION:2.0
PRODID:-//ChamberMaster//Event Calendar 2.0//EN
METHOD:PUBLISH
X-PUBLISHED-TTL:P3D
REFRESH-INTERVAL:P3D
CALSCALE:GREGORIAN
BEGIN:VEVENT
DTSTART:20151102T193000Z
DTEND:20151102T213000Z
X-MICROSOFT-CDO-ALLDAYEVENT:FALSE
SUMMARY:November 2\, 2015 - USA Consul General Rountable
DESCRIPTION:Please join us for a roundtable lunch with the new U.S. Consul General Lynne Platt.  She will provide an overview of U.S.-Canada relations and her unique perspective on cross-border issues. Lunch will be provided\n\n\n\nHave a dialogue with Consul Platt on:\n\n1. The purpose of Consulates\n\n2. Current significance of the US-Canada relationship\n\n3. The Beyond the Border Initiative Plan
X-ALT-DESC;FMTTYPE=text/html:Please join us for a roundtable lunch with the new U.S. Consul General Lynne Platt.&nbsp\; She will provide an overview of U.S.-Canada relations and her unique perspective on cross-border issues. Lunch will be provided<br />\n<br />\n<strong>Have a dialogue with Consul Platt on:<br />\n1. The purpose of Consulates<br />\n2. Current significance of the US-Canada relationship<br />\n3. The Beyond the Border Initiative Plan</strong><br />\n&nbsp\;
LOCATION:Surrey Board of Trade Conference Room Suite 101\, 14439 104 Avenue\, Surrey
UID:e.749.3655
SEQUENCE:3
DTSTAMP:20260423T230157Z
URL:https://business.swrbot.com/events/details/november-2-2015-usa-consul-general-rountable-11-02-2015-3655
END:VEVENT

END:VCALENDAR
