BEGIN:VCALENDAR
VERSION:2.0
PRODID:-//ChamberMaster//Event Calendar 2.0//EN
METHOD:PUBLISH
X-PUBLISHED-TTL:P3D
REFRESH-INTERVAL:P3D
CALSCALE:GREGORIAN
BEGIN:VEVENT
DTSTART:20171103T010000Z
DTEND:20171103T043000Z
X-MICROSOFT-CDO-ALLDAYEVENT:FALSE
SUMMARY:November 2\, 2017 - 19th Annual Surrey Business Excellence Awards Dinner - SOLD OUT!
DESCRIPTION:19th Annual Surrey Business Excellence Awards    \n\n\n\nJoin us as we celebrate this annual event!  The Awards ceremony celebrates business excellence in Surrey in the following categories:\n\n\n\nBusiness Excellence Award 1-10 employees\n\nBusiness Excellence Award 11-40 Employees\n\nBusiness Excellence Award 41+ Employees\n\nNot for Profit/Association of the Year\n\nNew Business of the Year\n\nYoung Entrepreneur of the Year\n\nBusiness Person of the Year\n\n\n\nThis event attracts over 400 prominent businesses\, as well as young entrepreneurs of tomorrow.\n\n\n\nFormal Dress Required.\n\n\n\nPlease contact us if interested in attending!
X-ALT-DESC;FMTTYPE=text/html:<span style="font-family:arial\;"><strong>19th Annual Surrey Business Excellence Awards &nbsp\; &nbsp\;</strong></span><br />\n<br />\nJoin us as we celebrate this annual event!&nbsp\; The Awards ceremony celebrates business excellence in Surrey in the following categories:<br />\n<br />\nBusiness Excellence Award 1-10 employees<br />\nBusiness Excellence Award 11-40 Employees<br />\nBusiness Excellence Award 41+ Employees<br />\nNot for Profit/Association of the Year<br />\nNew Business of the Year<br />\nYoung Entrepreneur of the Year<br />\nBusiness Person of the Year<br />\n<br />\nThis event attracts over 400 prominent businesses\, as well as young entrepreneurs of tomorrow.<br />\n<br />\nFormal Dress Required.<br />\n<br />\n<strong>Please contact us if interested in attending!</strong>
LOCATION:Sheraton Vancouver Guildford Hotel (15269 104 Avenue\, Surrey)
UID:e.749.5203
SEQUENCE:3
DTSTAMP:20260421T181916Z
URL:https://business.swrbot.com/events/details/november-2-2017-19th-annual-surrey-business-excellence-awards-dinner-sold-out-11-02-2017-5203
END:VEVENT

END:VCALENDAR
