BEGIN:VCALENDAR
VERSION:2.0
PRODID:-//ChamberMaster//Event Calendar 2.0//EN
METHOD:PUBLISH
X-PUBLISHED-TTL:P3D
REFRESH-INTERVAL:P3D
CALSCALE:GREGORIAN
BEGIN:VEVENT
DTSTART:20141121T013000Z
DTEND:20141121T033000Z
X-MICROSOFT-CDO-ALLDAYEVENT:FALSE
SUMMARY:November 20\, 2014 - Business Networking at Westminster Savings Credit Union
DESCRIPTION:Business Networking at Westminster Savings Credit Union
X-ALT-DESC;FMTTYPE=text/html:Business Networking at Westminster Savings Credit Union
LOCATION:Westminster Savings Credit Union Newton 500 - 7488 King George Boulevard Surrey\, BC
UID:e.749.2674
SEQUENCE:3
DTSTAMP:20260425T140515Z
URL:https://business.swrbot.com/events/details/november-20-2014-business-networking-at-westminster-savings-credit-union-11-20-2014-2674
END:VEVENT

END:VCALENDAR
