BEGIN:VCALENDAR
VERSION:2.0
PRODID:-//ChamberMaster//Event Calendar 2.0//EN
METHOD:PUBLISH
X-PUBLISHED-TTL:P3D
REFRESH-INTERVAL:P3D
CALSCALE:GREGORIAN
BEGIN:VEVENT
DTSTART:20151120T153000Z
DTEND:20151120T173000Z
X-MICROSOFT-CDO-ALLDAYEVENT:FALSE
SUMMARY:November 20\, 2015 - Business and Education Investment Dialogue
DESCRIPTION:If we determine that education truly is an investment that benefits the economy\, what should our priorities be? What return on investment are we currently receiving in Surrey?\n\n \n\nSurrey is recognized as the fastest growing city on the west coast and will be the largest city within a decade. Much of the growth is reflected in a younger population than nearby cities and the potential of development of businesses\, manufacturers and industry. A thriving city needs a thriving economy\, and that takes investment in a variety of inputs\, including an educated workforce.\n\n \n\nBusiness\, manufacturing and academic leaders join together to discuss why investing in Surrey is necessary and to consider potential solutions.\n\n\n\nFacilitated by: Jonathan Driver\, Provost\, Simon Fraser University\n\n\n\nPanel Speakers:\n\n	Dr. Jane Fee\, Vice-Provost\, Students\, Kwantlen Polytechnic University\n	Ben Hume\, President\, Sheppards Building Materials Inc.\n	Dan Reader\, President\, Murray Latta Progressive Machine\n	Richard Sakaki\, Vice President of Human Resources\, Mainroad Group
X-ALT-DESC;FMTTYPE=text/html:<span style="font-family:arial\;"><span style="font-size:10pt\;">If we determine that education truly is an investment that benefits the economy\, what should our priorities be? What return on investment are we currently receiving in Surrey?</span></span><br />\n&nbsp\;<br />\n<span style="font-family:arial\;"><span style="font-size:10pt\;">Surrey is recognized as the fastest growing city on the west coast and will be the largest city within a decade. Much of the growth is reflected in a younger population than nearby cities and the potential of development of businesses\, manufacturers and industry. A thriving city needs a thriving economy\, and that takes investment in a variety of inputs\, including an educated workforce.</span></span><br />\n&nbsp\;<br />\n<span style="font-family:arial\;"><span style="font-size:10pt\;">Business\, manufacturing and academic leaders join together to discuss why investing in Surrey is necessary and to consider potential solutions.</span></span><br />\n<br />\nFacilitated by: Jonathan Driver\, Provost\, Simon Fraser University<br />\n<br />\nPanel Speakers:\n<ul>\n	<li>Dr. Jane Fee\, Vice-Provost\, Students\, Kwantlen Polytechnic University</li>\n	<li>Ben Hume\, President\, Sheppards Building Materials Inc.</li>\n	<li>Dan Reader\, President\, Murray Latta Progressive Machine</li>\n	<li>Richard Sakaki\, Vice President of Human Resources\, Mainroad Group</li>\n</ul>\n
LOCATION:Eaglequest Golf Course 7778 152 Street\, Surrey
UID:e.749.3684
SEQUENCE:3
DTSTAMP:20260423T230523Z
URL:https://business.swrbot.com/events/details/november-20-2015-business-and-education-investment-dialogue-11-20-2015-3684
END:VEVENT

END:VCALENDAR
