BEGIN:VCALENDAR
VERSION:2.0
PRODID:-//ChamberMaster//Event Calendar 2.0//EN
METHOD:PUBLISH
X-PUBLISHED-TTL:P3D
REFRESH-INTERVAL:P3D
CALSCALE:GREGORIAN
BEGIN:VEVENT
DTSTART:20171121T154500Z
DTEND:20171121T180000Z
X-MICROSOFT-CDO-ALLDAYEVENT:FALSE
SUMMARY:November 21\, 2017 - Accounts Receivable Doesn't Have to be Frightening! - Workshop
DESCRIPTION:When business owners get focused on revenue\, they forget that it is meaningless until it is actually in their bank account. Presented by BDO Canada\, this workshop will focus on the importance of accounts receivable management. Participants will discuss the importance of cash flow and how to stay on top of it as well as learn some straight forward tips to managing their  accounts receivable. \n\n\n\nThis workshop is facilitated by BDO Canada.
X-ALT-DESC;FMTTYPE=text/html:<span style="color: rgb(34\, 34\, 34)\; font-family: arial\, helvetica\, sans-serif\; font-size: 12.8px\;">When business owners get focused on revenue\, they forget that it is meaningless until it is actually in their bank account. Presented by BDO Canada\, this workshop will focus on the importance of accounts receivable management. Participants will discuss the importance of cash flow and how to stay on top of it as well as learn some&nbsp\;straight forward tips to managing their &nbsp\;accounts receivable.&nbsp\;<br />\n<br />\n<strong>This workshop is facilitated by<a href="https://www.bdo.ca/en-ca/home/"> BDO Canada.&nbsp\;</a></strong></span>
LOCATION:Surrey Board of Trade Conference Room 101-14439 104 Avenue\, Surrey
UID:e.749.5441
SEQUENCE:3
DTSTAMP:20260421T181820Z
URL:https://business.swrbot.com/events/details/november-21-2017-accounts-receivable-doesn-t-have-to-be-frightening-workshop-11-21-2017-5441
END:VEVENT

END:VCALENDAR
