BEGIN:VCALENDAR
VERSION:2.0
PRODID:-//ChamberMaster//Event Calendar 2.0//EN
METHOD:PUBLISH
X-PUBLISHED-TTL:P3D
REFRESH-INTERVAL:P3D
CALSCALE:GREGORIAN
BEGIN:VEVENT
DTSTART:20181122T020000Z
DTEND:20181122T040000Z
X-MICROSOFT-CDO-ALLDAYEVENT:FALSE
SUMMARY:November 21\, 2018 - SBOT & SABA Mixer | Hosted by Mercedes-Benz Surrey
DESCRIPTION:Hosted by Mercedes-Benz Surrey!\n\nJoin the Surrey Board of Trade and the South Asian Business Association for an evening of networking and fun at Mercedes-Benz Surrey\, a Member of OpenRoad Auto Group. This is a great opportunity to make new business contacts in the area\, while also enjoying drinks\, appetizers\, prizes and a showcasing of Mercedes-Benz vehicles.\n\n\n\nMercedes-Benz Surrey is a new and pre-owned Mercedes-Benz dealership in Surrey. They proudly serve and ship to the Metro Vancouver area. In their online showroom\, you'll find an outstanding selection of Mercedes-Benz cars and Mercedes-AMG vehicles you might not find so easily anywhere else. This location also serves Mercedes-Benz vans or vehicles through their Corporate Fleet Program. Mercedes-Benz Surrey offers comprehensive service!\n\n\n\nFor more information\, visit OpenRoadMercedes-benz.ca or call 604.581.7662.\n\n \n\n\nEvent payment is due upon registration. Cancellations for event attendance\, sponsorship\, or exhibitor space will not be refunded. An event registration is considered a commitment to pay. While event registration is non-refundable\, cancellations before three full business days of the event may be eligible for a credit towards a future event. Some exclusions apply.
X-ALT-DESC;FMTTYPE=text/html:<span style="font-size:14px\;"><strong>Hosted by Mercedes-Benz Surrey!</strong><br />\nJoin the Surrey Board of Trade and the South Asian Business Association for an evening of networking and fun at Mercedes-Benz Surrey\, a Member of OpenRoad Auto Group. This is a great opportunity to make new business contacts in the area\, while also enjoying drinks\, appetizers\, prizes and a showcasing of Mercedes-Benz vehicles.<br />\n<br />\nMercedes-Benz Surrey is a new and pre-owned Mercedes-Benz dealership in Surrey. They proudly serve and ship to the Metro Vancouver area. In their online showroom\, you&rsquo\;ll find an outstanding selection of Mercedes-Benz cars and Mercedes-AMG vehicles you might not find so easily anywhere else. This location also serves Mercedes-Benz vans or vehicles through their Corporate Fleet Program. Mercedes-Benz Surrey offers comprehensive service!<br />\n<br />\nFor more information\, visit OpenRoadMercedes-benz.ca or call 604.581.7662.</span><br />\n&nbsp\;\n<hr /><br />\n<em style="box-sizing: content-box\; bottom: auto\; clear: none\; color: rgb(34\, 34\, 34)\; content: normal\; direction: inherit\; display: inline\; empty-cells: show\; font-variant-numeric: inherit\; font-variant-east-asian: inherit\; font-stretch: inherit\; font-size: 16px\; font-family: Roboto\, Univers\, &quot\;Helvetica Neue&quot\;\, Helvetica\, Arial\, sans-serif\; left: auto\; margin: 0px\; max-height: none\; max-width: none\; min-height: initial\; min-width: initial\; opacity: 1\; outline-offset: 0px\; overflow: visible\; padding: 0px\; position: static\; resize: none\; right: auto\; table-layout: auto\; text-overflow: clip\; top: auto\; vertical-align: baseline\; visibility: inherit\; word-break: inherit\; word-wrap: inherit\; z-index: auto\; background-image: none\; background-position: initial\; background-size: initial\; background-repeat: initial\; background-attachment: initial\; background-origin: initial\; background-clip: initial\; border: none\; border-collapse: separate\; border-radius: 0px\; height: auto\; width: auto\; box-shadow: none\; line-height: 1.6 !important\;">Event payment is due upon registration. Cancellations for event attendance\, sponsorship\, or exhibitor space will not be refunded. An event registration is considered a commitment to pay. While event registration is non-refundable\, cancellations before three full business days of the event may be eligible for a credit towards a future event. Some exclusions apply.</em>
LOCATION:Mercedes-Benz Surrey 15508 104 Ave\, Surrey\, BC
UID:e.749.9911
SEQUENCE:3
DTSTAMP:20260421T030611Z
URL:https://business.swrbot.com/events/details/november-21-2018-sbot-saba-mixer-hosted-by-mercedes-benz-surrey-11-21-2018-9911
END:VEVENT

END:VCALENDAR
