BEGIN:VCALENDAR
VERSION:2.0
PRODID:-//ChamberMaster//Event Calendar 2.0//EN
METHOD:PUBLISH
X-PUBLISHED-TTL:P3D
REFRESH-INTERVAL:P3D
CALSCALE:GREGORIAN
BEGIN:VEVENT
DTSTART:20181123T013000Z
DTEND:20181123T033000Z
X-MICROSOFT-CDO-ALLDAYEVENT:FALSE
SUMMARY:November 22\, 2018 - Business to Business Networking Reception Hosted by BCLC and Elements Casino
DESCRIPTION:Hosted by BCLC and Elements Casino!\nJoin the Surrey Board of Trade for an evening of networking and fun at Elements Casino!\n\n\n\nLast year\, the City of Surrey received more than $4 million from the provincial government for hosting Elements Casino. That revenue was used to fund special projects in your community.\n\n\n\nJoin the Surrey Board of Trade\, Elements Casino Surrey and BCLC for this special networking event celebrating playing it forward in your community.\n\n\n\nCheck out Elements Casino and learn how the revenue generated by BCLC makes a difference in your community while enjoying refreshments\, entertainment\, networking and prizes!\n\n \n\nEvent payment is due upon registration. Cancellations for event attendance\, sponsorship\, or exhibitor space will not be refunded. An event registration is considered a commitment to pay. While event registration is non-refundable\, cancellations before three full business days of the event may be eligible for a credit towards a future event. Some exclusions apply.
X-ALT-DESC;FMTTYPE=text/html:<span style="font-size:12px\;"><span style="font-family:arial\;"><span style="font-size:14px\;"><strong style="color:rgb(51\,51\,51)\;font-family:sans-serif\,Arial\,Verdana\," trebuchet="">Hosted by BCLC and Elements Casino!</strong></span></span></span>\n<p><span style="font-size:14px\;"><span style="font-family:arial\;"><span style="font-style: normal\; font-variant-ligatures: normal\; font-variant-caps: normal\; font-weight: 400\; letter-spacing: normal\; text-align: start\; text-indent: 0px\; text-transform: none\; white-space: normal\; word-spacing: 0px\; text-decoration-style: initial\; text-decoration-color: initial\;">Join the Surrey Board of Trade for an evening of networking and fun at Elements Casino!</span><br />\n<br style="font-style:normal\;font-variant-ligatures:normal\;font-variant-caps:normal\;font-weight:400\;letter-spacing:normal\;text-align:start\;text-indent:0px\;text-transform:none\;white-space:normal\;word-spacing:0px\;text-decoration-style:initial\;text-decoration-color:initial\;color:rgb(34\,34\,34)\;font-family:arial\;font-size:12px" />\nLast year\, the City of Surrey received more than $4 million from the provincial government for hosting Elements Casino. That revenue was used to fund special projects in your community.<br style="color: rgb(31\, 73\, 125)\; font-family: Calibri\, sans-serif\; font-size: 14.6667px\;" />\n<br style="color: rgb(31\, 73\, 125)\; font-family: Calibri\, sans-serif\; font-size: 14.6667px\;" />\nJoin the Surrey Board of Trade\, Elements Casino Surrey and BCLC for this special networking event celebrating playing it forward in your community.<br style="color: rgb(31\, 73\, 125)\; font-family: Calibri\, sans-serif\; font-size: 14.6667px\;" />\n<br style="color: rgb(31\, 73\, 125)\; font-family: Calibri\, sans-serif\; font-size: 14.6667px\;" />\nCheck out Elements Casino and learn how the revenue generated by BCLC makes a difference in your community while enjoying refreshments\, entertainment\, networking </span></span><span style="font-family: Calibri\, sans-serif\; font-size: 14.6667px\;"><span style="font-size:14px\;"><span style="font-family:arial\;">and</span></span></span><span style="font-size:14px\;"><span style="font-family:arial\;"> prizes!</span></span><br />\n&nbsp\;</p>\n\n<div style="color: rgb(34\, 34\, 34)\; font-family: Arial\, Helvetica\, sans-serif\; font-size: small\;"><em>Event payment is due upon registration. Cancellations for event attendance\, sponsorship\, or exhibitor space will not be refunded. An event registration is considered a commitment to pay. While event registration is non-refundable\, cancellations before three full business days of the event may be eligible for a credit towards a future event. Some exclusions apply.</em></div>\n
LOCATION:Element's Casino Dragon Room (17755 60 Ave\, Surrey)
UID:e.749.9338
SEQUENCE:3
DTSTAMP:20260421T025813Z
URL:https://business.swrbot.com/events/details/november-22-2018-business-to-business-networking-reception-hosted-by-bclc-and-elements-casino-11-22-2018-9338
END:VEVENT

END:VCALENDAR
