BEGIN:VCALENDAR
VERSION:2.0
PRODID:-//ChamberMaster//Event Calendar 2.0//EN
METHOD:PUBLISH
X-PUBLISHED-TTL:P3D
REFRESH-INTERVAL:P3D
CALSCALE:GREGORIAN
BEGIN:VEVENT
DTSTART:20161123T154500Z
DTEND:20161123T180000Z
X-MICROSOFT-CDO-ALLDAYEVENT:FALSE
SUMMARY:November 23\, 2016 - Own Your Inbox: Manage Email Like an Expert
DESCRIPTION:Are you spending too much time with email? Does a typical day sound something like this: write\, read\, reply\, and repeat? It's time to take control of your inbox and start handling your email like a productivity expert. In this hands-on session\, you'll learn how to keep messages organized and easy to manage. From processing emails more quickly to setting up automated follow-ups\, this workshop will make your the master of your inbox.\n\n\n\nIn this workshop you will learn:\n\n	How to reduce the time spent checking email\n	Processes to keep your inbox clean and efficient\n	How to achieve inbox zero on a regular basis\n	Techniques to avoid email distractions and inbox clutter\n	How to create automated rules and follow-up reminders\n\nThis workshop will be hands-on - we recommend bringing a laptop or tablet so that you can complete the exercises.\n\n\n\nThis workshop is facilitated by Scott Friesen of Simpletivity Training & Consulting.
X-ALT-DESC;FMTTYPE=text/html:Are you spending too much time with email? Does a typical day sound something like this: write\, read\, reply\, and repeat? It&rsquo\;s time to take control of your inbox and start handling your email like a productivity expert. In this hands-on session\, you&rsquo\;ll learn how to keep messages organized and easy to manage. From processing emails more quickly to setting up automated follow-ups\, this workshop will make your the master of your inbox.<br />\n<br />\nIn this workshop you will learn:\n<ul>\n	<li>How to reduce the time spent checking email</li>\n	<li>Processes to keep your inbox clean and efficient</li>\n	<li>How to achieve inbox zero on a regular basis</li>\n	<li>Techniques to avoid email distractions and inbox clutter</li>\n	<li>How to create automated rules and follow-up reminders</li>\n</ul>\n<em>This workshop will be hands-on - we recommend bringing a laptop or tablet so that you can complete the exercises.</em><br />\n<br />\n<i><b>This workshop is facilitated by Scott Friesen of <a href="http://www.simpletivity.com/" target="_blank">Simpletivity</a> Training &amp\; Consulting. </b></i>
LOCATION:Surrey Board of Trade Office 101\, 14439 104th Ave\, Surrey
UID:e.749.5120
SEQUENCE:3
DTSTAMP:20260422T083114Z
URL:https://business.swrbot.com/events/details/november-23-2016-own-your-inbox-manage-email-like-an-expert-11-23-2016-5120
END:VEVENT

END:VCALENDAR
