BEGIN:VCALENDAR
VERSION:2.0
PRODID:-//ChamberMaster//Event Calendar 2.0//EN
METHOD:PUBLISH
X-PUBLISHED-TTL:P3D
REFRESH-INTERVAL:P3D
CALSCALE:GREGORIAN
BEGIN:VEVENT
DTSTART:20171124T153000Z
DTEND:20171124T173000Z
X-MICROSOFT-CDO-ALLDAYEVENT:FALSE
SUMMARY:November 24\, 2017 - Surrey Hot Topic Series: Millennials: Attracting the Best and Brightest Talent
DESCRIPTION:Millennials are Canada's largest workforce demographic\, ahead of baby boomers and General Xers. Surrey is now the home to the largest concentration of millennials\, accounting for 25% of the region's youth population\, aged 18 to 35. What does Surrey have to offer to assist businesses to attract and retain young talent? Once here\, what can we do to encourage them to stay\, grow and succeed in Surrey? Bring your ideas and contribute to an ongoing dialogue to raise Surrey's brand. \n\n\n\n\n\nHear from panelists:\n\n	Tracey Arnish - Chief People Officer\, Coast Capital Savings\n	Dan Bregg - President\, Buy-Low Foods\n	Rocky Ozaki - Vice-President\, Community\, BC Tech Association\n	Craig Crawford - Vice President\, Operations\, BC Housing\n	Bill Roche - Founder and President\, PowerPlay Young Entrepreneurs  \n\n\n\nFacilitated by Dr. Greg Thomas\, G3 Consulting Ltd.\, Chair\, Surrey Board of Trade.
X-ALT-DESC;FMTTYPE=text/html:<span style="color:windowtext\;">Millennials are Canada&rsquo\;s largest workforce demographic\, ahead of baby boomers and General Xers. </span><span style="color:windowtext\;">Surrey is now the home to the largest concentration of millennials\, accounting for 25% of the region&rsquo\;s youth population\, aged 18 to 35. What does Surrey have to offer to assist businesses to attract and retain young talent? Once here\, what can we do to encourage them to stay\, grow and succeed in Surrey? Bring your ideas and contribute to an ongoing dialogue to raise Surrey&rsquo\;s brand.&nbsp\;</span><br />\n<br />\n<br />\n<span style="font-size:12px\;"><span style="font-family: arial\;">Hear from panelists:</span></span>\n<ul>\n	<li><span style="font-size:12px\;"><span style="font-family: arial\;">Tracey Arnish - Chief People Officer\, Coast Capital Savings</span></span></li>\n	<li><span style="font-size:12px\;"><span style="font-family: arial\;">Dan Bregg - President\, Buy-Low Foods</span></span></li>\n	<li><span style="font-size:12px\;"><span style="font-family: arial\;">Rocky Ozaki&nbsp\;- Vice-President\, Community\, BC Tech Association</span></span></li>\n	<li><span style="font-size:12px\;"><span style="font-family: arial\;">Craig Crawford - Vice President\, Operations\, BC Housing</span></span></li>\n	<li><span style="font-size:12px\;"><span style="font-family: arial\;">Bill Roche - Founder and President\, PowerPlay&nbsp\;Young Entrepreneurs&nbsp\;&nbsp\;</span></span></li>\n</ul>\n<br />\n<span style="font-size:12px\;"><span style="font-family: arial\;">Facilitated by Dr. Greg Thomas\, G3 Consulting Ltd.\, Chair\, Surrey Board of Trade.</span></span>
LOCATION:Guildford Golf & Country Club\, 7929 152 Street\, Surrey
UID:e.749.5374
SEQUENCE:3
DTSTAMP:20260421T181937Z
URL:https://business.swrbot.com/events/details/november-24-2017-surrey-hot-topic-series-millennials-attracting-the-best-and-brightest-talent-11-24-2017-5374
END:VEVENT

END:VCALENDAR
