BEGIN:VCALENDAR
VERSION:2.0
PRODID:-//ChamberMaster//Event Calendar 2.0//EN
METHOD:PUBLISH
X-PUBLISHED-TTL:P3D
REFRESH-INTERVAL:P3D
CALSCALE:GREGORIAN
BEGIN:VEVENT
DTSTART:20181127T153000Z
DTEND:20181127T173000Z
X-MICROSOFT-CDO-ALLDAYEVENT:FALSE
SUMMARY:November 27\, 2018 - Surrey Hot Topics Series: Gas Prices and Energy
DESCRIPTION:Want to know how the price of gas is determined? Interested in the future of clean energy? Have questions about electric vehicles and the future of transportation? Join the Surrey Board of Trade on November 27\, 2018 for the Surrey Hot Topic Dialogue on Gas Prices & Energy - The future of energy!\n\n\n\nPanelists:\n\n\n	Morgan Maryk\, CEO of ReCharged\n	Manny Dhillon\, President of Dhillon Holdings\n	Blair Qualey\, CEO & President of New Car Dealer Association of BC\n	Lenny Freilich\, Director of Strategic Accounts of Mitacs BC\n	Siraz Dalmir\, Key Accounts Manager for Municipalities of FortisBC\n\n\n\n\n\nEvent payment is due upon registration. Cancellations for event attendance\, sponsorship\, or exhibitor space will not be refunded. An event registration is considered a commitment to pay. While event registration is non-refundable\, cancellations before three full business days of the event may be eligible for a credit towards a future event. Some exclusions apply.
X-ALT-DESC;FMTTYPE=text/html:Want to know how the price of gas is determined? Interested in the future of clean energy? Have questions about electric vehicles and the future of transportation? Join the Surrey Board of Trade on&nbsp\;<strong>November 27\, 2018</strong>&nbsp\;for the <strong>Surrey Hot Topic Dialogue on Gas Prices &amp\; Energy - The future of energy!</strong><br />\n<br />\nPanelists:\n<div>\n<ol>\n	<li>Morgan Maryk\, CEO of ReCharged</li>\n	<li>Manny Dhillon\, President of Dhillon Holdings</li>\n	<li>Blair Qualey\, CEO &amp\; President of New Car Dealer Association of BC</li>\n	<li>Lenny Freilich\, Director of Strategic Accounts of Mitacs BC</li>\n	<li>Siraz Dalmir\, Key Accounts Manager for Municipalities of FortisBC</li>\n</ol>\n</div>\n\n<hr /><br />\n<em><span style="color: rgb(34\, 34\, 34)\; font-family: Arial\, Helvetica\, sans-serif\; font-size: small\;">Event payment is due upon registration. Cancellations for event attendance\, sponsorship\, or exhibitor space will not be refunded. An event registration is considered a commitment to pay. While event registration is non-refundable\, cancellations before three full business days of the event may be eligible for a credit towards a future event. Some exclusions apply.</span><br />\n&nbsp\;</em><br />\n&nbsp\;<br />\n<br />\n&nbsp\;
LOCATION:Eaglequest Golf Course 7778 152 St\, Surrey
UID:e.749.9827
SEQUENCE:3
DTSTAMP:20260421T030855Z
URL:https://business.swrbot.com/events/details/november-27-2018-surrey-hot-topics-series-gas-prices-and-energy-11-27-2018-9827
END:VEVENT

END:VCALENDAR
