BEGIN:VCALENDAR
VERSION:2.0
PRODID:-//ChamberMaster//Event Calendar 2.0//EN
METHOD:PUBLISH
X-PUBLISHED-TTL:P3D
REFRESH-INTERVAL:P3D
CALSCALE:GREGORIAN
BEGIN:VEVENT
DTSTART:20171128T154500Z
DTEND:20171128T180000Z
X-MICROSOFT-CDO-ALLDAYEVENT:FALSE
SUMMARY:November 28\, 2017 - Direct Mail and Canada Post Working for You! - Workshop
DESCRIPTION:Do you need help with your direct mail strategy? In this workshop\, participants will learn about direct mail and fulfillment services\, how to get started\, as well as some of the new services that Canada Post is offering. Both Hemlock Harling and Canada Post will be presenting new ideas\, options and solutions as to how to prepare for direct mail campaigns\, including what to mail out and when. Hemlock Harling is a Canada Post Expert Partner that provides consulting services to help customers prepare their data\, print\, fulfillment\, and parcels before distribution to Canada\, the US\, and Overseas. \n\n\n\nThis workshop is facilitated by Adrian Saunders and Lorraine Duclos of Hemlock Harling.
X-ALT-DESC;FMTTYPE=text/html:<span style="color:#222222\;"><span style="font-family:arial\;"><span style="font-size:9.0pt\;">Do you need help with your direct mail strategy? In this workshop\, participants will learn about direct mail and fulfillment services\, how to get started\, as well as some of the new services that Canada Post is offering.&nbsp\;Both Hemlock Harling and Canada Post will be presenting new ideas\, options and solutions as to how to prepare for direct mail campaigns\, including what to mail out and when. Hemlock Harling is a Canada Post Expert Partner that provides consulting services to help customers prepare their data\, print\, fulfillment\, and parcels before distribution to Canada\, the US\, and Overseas.&nbsp\;</span></span></span><br />\n<br style="color: rgb(51\, 51\, 51)\; font-family: sans-serif\, Arial\, Verdana\, &quot\;Trebuchet MS&quot\;\; font-size: 13px\;" />\n<strong style="color: rgb(51\, 51\, 51)\; font-family: sans-serif\, Arial\, Verdana\, &quot\;Trebuchet MS&quot\;\; font-size: 13px\;">This workshop is facilitated by&nbsp\;</strong><strong><span style="font-family:calibri\;"><span style="font-size:11.0pt\;">Adrian Saunders and Lorraine Duclos of <a href="http://hemlockharling.com/">Hemlock Harling.&nbsp\;</a></span></span></strong><br />\n&nbsp\;
LOCATION:Surrey Board of Trade Conference Room 101-14439 104 Avenue\, Surrey
UID:e.749.5536
SEQUENCE:3
DTSTAMP:20260421T192321Z
URL:https://business.swrbot.com/events/details/november-28-2017-direct-mail-and-canada-post-working-for-you-workshop-11-28-2017-5536
END:VEVENT

END:VCALENDAR
