BEGIN:VCALENDAR
VERSION:2.0
PRODID:-//ChamberMaster//Event Calendar 2.0//EN
METHOD:PUBLISH
X-PUBLISHED-TTL:P3D
REFRESH-INTERVAL:P3D
CALSCALE:GREGORIAN
BEGIN:VEVENT
DTSTART:20181130T153000Z
DTEND:20181130T190000Z
X-MICROSOFT-CDO-ALLDAYEVENT:FALSE
SUMMARY:November 30\, 2018 - SBOT Workshop: Cultural Edge: Do You Have The Cultural Edge in Today’s Global Workforce?
DESCRIPTION:Cultural Edge: Do You Have The Cultural Edge in Today's Global Workforce?\n\n\n\nThese days\, talent is harder to attract and retain\, and today's globalized workforce presents new HR challenges: Immigrant workers struggle to communicate their needs\, while their native Canadian co-workers face inter-cultural difficulties. Cultural Edge\, developed and delivered by the Lower Mainland's leader in cultural competency training in the workplace\, will help you gain a competitive business advantage by boosting your team?s ability to relate and perform successfully in the new global work environment.\n\nFacilitated by: Immigrant Services Society of BC (ISSofBC)\n\n \n\n\nEvent payment is due upon registration. Cancellations for event attendance\, sponsorship\, or exhibitor space will not be refunded. An event registration is considered a commitment to pay. While event registration is non-refundable\, cancellations before three full business days of the event may be eligible for a credit towards a future event. Some exclusions apply.
X-ALT-DESC;FMTTYPE=text/html:<span style="font-size:14px\;"><strong>Cultural Edge: Do You Have The Cultural Edge in Today&#39\;s Global Workforce?</strong></span><br />\n<br />\nThese days\, talent is harder to attract and retain\, and today&#39\;s globalized workforce presents new HR challenges: Immigrant workers struggle to communicate their needs\, while their native Canadian co-workers face inter-cultural difficulties. Cultural Edge\, developed and delivered by the Lower Mainland&#39\;s leader in cultural competency training in the workplace\, will help you gain a competitive business advantage by boosting your team?s ability to relate and perform successfully in the new global work environment.<br />\n<strong>Facilitated by: </strong><a href="https://issbc.org/">Immigrant Services Society of BC (ISSofBC)</a><br />\n&nbsp\;\n<hr /><br />\n<em><span style="color: rgb(34\, 34\, 34)\; font-family: Arial\, Helvetica\, sans-serif\; font-size: small\;">Event payment is due upon registration. Cancellations for event attendance\, sponsorship\, or exhibitor space will not be refunded. An event registration is considered a commitment to pay. While event registration is non-refundable\, cancellations before three full business days of the event may be eligible for a credit towards a future event. Some exclusions apply.</span><br />\n<br />\n<br />\n&nbsp\;</em><br />\n&nbsp\;
LOCATION:Surrey Board of Trade Conference Room (101-14439\, 104th Ave\, Surrey\, V3R 1M1)
UID:e.749.9844
SEQUENCE:3
DTSTAMP:20260421T030644Z
URL:https://business.swrbot.com/events/details/november-30-2018-sbot-workshop-cultural-edge-do-you-have-the-cultural-edge-in-today-s-global-workforce-11-30-2018-9844
END:VEVENT

END:VCALENDAR
