BEGIN:VCALENDAR
VERSION:2.0
PRODID:-//ChamberMaster//Event Calendar 2.0//EN
METHOD:PUBLISH
X-PUBLISHED-TTL:P3D
REFRESH-INTERVAL:P3D
CALSCALE:GREGORIAN
BEGIN:VEVENT
DTSTART:20141104T193000Z
DTEND:20141104T213000Z
X-MICROSOFT-CDO-ALLDAYEVENT:FALSE
SUMMARY:November 4\, 2014 - All-Candidates Business Dialogue for Mayoral Candidates
DESCRIPTION:All-Candidates Business Dialogue for Mayoral Candidates\n\n\n\nThe Surrey Board of Trade is asking business leaders\, their staff\, and the community to meet Surrey Mayoral candidates.\n\n\n\nCo-hosted by the South Surrey & White Rock Chamber of Commerce.
X-ALT-DESC;FMTTYPE=text/html:<strong>All-Candidates Business Dialogue for Mayoral Candidates</strong><br />\n<br />\nThe Surrey Board of Trade is asking business leaders\, their staff\, and the community to meet Surrey Mayoral candidates.<br />\n<br />\nCo-hosted by the South Surrey &amp\; White Rock Chamber of Commerce.
LOCATION:Eaglequest Golf Course 7778 152nd Street Surrey\, BC
UID:e.749.2747
SEQUENCE:3
DTSTAMP:20260425T140535Z
URL:https://business.swrbot.com/events/details/november-4-2014-all-candidates-business-dialogue-for-mayoral-candidates-11-04-2014-2747
END:VEVENT

END:VCALENDAR
