BEGIN:VCALENDAR
VERSION:2.0
PRODID:-//ChamberMaster//Event Calendar 2.0//EN
METHOD:PUBLISH
X-PUBLISHED-TTL:P3D
REFRESH-INTERVAL:P3D
CALSCALE:GREGORIAN
BEGIN:VEVENT
DTSTART:20141105T013000Z
DTEND:20141105T033000Z
X-MICROSOFT-CDO-ALLDAYEVENT:FALSE
SUMMARY:November 4\, 2014 - Business Networking Reception at OpenRoad Infinti Langley
DESCRIPTION:BUSINESS NETWORKING RECEPTION AT OPENROAD INFINITI LANGLEY\n\n\n\nParking available in the adjacent lot.\n\n\n\nOPENROAD INFINITI WANTS YOU TO CHECK OUT THEIR NEW HOME!\n\n\n\nOpenRoad Infiniti\, your new Infiniti store in BC opened its doors in July 2012\, to serve the Fraser Valley communities of Langley\, Surrey\, White Rock\, Aldergrove\, Abbotsford and beyond. Bringing a luxury\, boutique retail experience to the modern car dealership\, OpenRoad Infiniti Langley offers a vast selection of new Infiniti models and quality pre-owned cars. They offer competitive pricing and attention to detail with both your car purchase and service needs.\n\n\n\nOpenRoad is one of Canada's Best Managed companies\, and they pride themselves on having the best automotive professionals to help you with your purchasing and ownership experience. Explore the latest new Infiniti's and quality pre-owned vehicles online at openroadinfiniti.ca or in person by visiting Canada's luxury-only automall - the Langley Auto Collection.\n\n\n\nA special event in partnership with the Great Langley Chamber of Commerce.\n\n\n\n Complimentary appies and refreshments.\n\n  Dealership and facility tour.\n\n  Enter to win great door prizes.\n\n  Check out the Infiniti Formula 1 Car! The Red Bull RB7 is a F1 racing car that was designed for the 2011 Formula One season driven by Sebastian Vettel - four time Formula One World Champion.
X-ALT-DESC;FMTTYPE=text/html:<strong>BUSINESS NETWORKING RECEPTION AT OPENROAD INFINITI LANGLEY</strong><br />\n<br />\nParking available in the adjacent lot.<br />\n<br />\nOPENROAD INFINITI WANTS YOU TO CHECK OUT THEIR NEW HOME!<br />\n<br />\nOpenRoad Infiniti\, your new Infiniti store in BC opened its doors in July 2012\, to serve the Fraser Valley communities of Langley\, Surrey\, White Rock\, Aldergrove\, Abbotsford and beyond. Bringing a luxury\, boutique retail experience to the modern car dealership\, OpenRoad Infiniti Langley offers a vast selection of new Infiniti models and quality pre-owned cars. They offer competitive pricing and attention to detail with both your car purchase and service needs.<br />\n<br />\nOpenRoad is one of Canada&rsquo\;s Best Managed companies\, and they pride themselves on having the best automotive professionals to help you with your purchasing and ownership experience. Explore the latest new Infiniti&rsquo\;s and quality pre-owned vehicles online at openroadinfiniti.ca or in person by visiting Canada&rsquo\;s luxury-only automall - the Langley Auto Collection.<br />\n<br />\nA special event in partnership with the Great Langley Chamber of Commerce.<br />\n<br />\n&bull\;Complimentary appies and refreshments.<br />\n&bull\; Dealership and facility tour.<br />\n&bull\; Enter to win great door prizes.<br />\n<strong>&bull\; Check out the Infiniti Formula 1 Car! The Red Bull RB7 is a F1 racing car that was designed for the 2011 Formula One season driven by Sebastian Vettel - four time Formula One World Champion.</strong>
LOCATION:OpenRoad Infiniti Langley 5995 Collection Drive Langley\, BC
UID:e.749.2811
SEQUENCE:3
DTSTAMP:20260425T140240Z
URL:https://business.swrbot.com/events/details/november-4-2014-business-networking-reception-at-openroad-infinti-langley-11-04-2014-2811
END:VEVENT

END:VCALENDAR
