BEGIN:VCALENDAR
VERSION:2.0
PRODID:-//ChamberMaster//Event Calendar 2.0//EN
METHOD:PUBLISH
X-PUBLISHED-TTL:P3D
REFRESH-INTERVAL:P3D
CALSCALE:GREGORIAN
BEGIN:VEVENT
DTSTART:20141105T193000Z
DTEND:20141105T220000Z
X-MICROSOFT-CDO-ALLDAYEVENT:FALSE
SUMMARY:November 5\, 2014 - Greater Vancouver Home Builders' Assoc. & SBoT Luncheon
DESCRIPTION:Greater Vancouver Home Builders' Association and Surrey Board of Trade Luncheon featuring our keynote speaker\, Kevin Falcon\, Executive Vice-President with Anthem properties and former Deputy Premier and Minister of Finance\, will discuss the relationship between the development industry and government.\n\n\n\nMr. Falcon will speak to how developers can engage more effectively with municipal governments\, changes needed at city and provincial government levels to support a thriving home building industry and how cities and developers currently engage to produce market-based housing.
X-ALT-DESC;FMTTYPE=text/html:Greater Vancouver Home Builders&rsquo\; Association and Surrey Board of Trade Luncheon featuring our keynote speaker\, Kevin Falcon\, Executive Vice-President with Anthem properties and former Deputy Premier and Minister of Finance\, will discuss the relationship between the development industry and government.<br />\n<br />\nMr. Falcon will speak to how developers can engage more effectively with municipal governments\, changes needed at city and provincial government levels to support a thriving home building industry and how cities and developers currently engage to produce market-based housing.
LOCATION:Sheraton Vancouver Guildford Hotel 15269 104 Ave\, Surrey\, BC
UID:e.749.2673
SEQUENCE:3
DTSTAMP:20260425T140407Z
URL:https://business.swrbot.com/events/details/november-5-2014-greater-vancouver-home-builders-assoc-sbot-luncheon-11-05-2014-2673
END:VEVENT

END:VCALENDAR
