BEGIN:VCALENDAR
VERSION:2.0
PRODID:-//ChamberMaster//Event Calendar 2.0//EN
METHOD:PUBLISH
X-PUBLISHED-TTL:P3D
REFRESH-INTERVAL:P3D
CALSCALE:GREGORIAN
BEGIN:VEVENT
DTSTART:20171106T170000Z
DTEND:20171106T190000Z
X-MICROSOFT-CDO-ALLDAYEVENT:FALSE
SUMMARY:November 6\, 2017 - Business Centre Service Workshop
DESCRIPTION:BUSINESS CENTRE SERVICE\n\nSell your product or service to the Federal Government\n\n\n\nThrough a specialized service only available at the Surrey Board of Trade\,\n\na Federal Government representative from the Office of Small and Medium Enterprises (OSME) will provide you with a workshop and by appointment receive complimentary consultation\, at no charge. We are committed to giving small and medium enterprises (SME) access to compete for government business.\n\n\n\n1. Understand how the government buys goods and services \n\n2. Understand how to use: Buyandsell.gc.ca\, which provides access to federal procurement information and open data including bid opportunities (tenders)\, standing offers and supply arrangements\, and contract history\n\n3. Learn about the Build in Canada Innovation Program (BCIP) which helps kick-start businesses and get their innovative products and services from the lab to the marketplace.\n\nIn 2013/14 the federal government awarded over $16 million in contracts in Surrey.
X-ALT-DESC;FMTTYPE=text/html:<span style="font-size:12px\;"><span style="font-family:arial\;"><u style="text-underline:single\;"><span style="font-weight: bold\;"><span style="color: rgb(69\, 103\, 47)\;">BUSINESS CENTRE SERVICE</span></span></u><br />\n<span style="font-variant: normal\; text-transform: uppercase\; font-weight: bold\;"><span style="color: black\;">Sell your product or service to the Federal Government</span></span><br />\n<br />\n<span style="font-weight: bold\;"><span style="color: black\;">Through a specialized service only available at the Surrey Board of Trade\,<br />\na Federal Government representative from the Office of Small and Medium Enterprises (OSME) will provide you with a workshop and by appointment receive complimentary consultation\, at no charge. We are committed to giving small and medium enterprises (SME) access to compete for government business.</span></span><br />\n<br />\n<span style="color: black\;">1. Understand how the government buys goods and services </span><br />\n<span style="color: black\;">2. Understand how to use: </span><u style="text-underline:single\;"><span style="color: black\;"><a href="https://buyandsell.gc.ca/">Buyandsell.gc.ca</a></span></u><span style="color: black\;">\, which provides access to federal procurement information and </span><u style="text-underline:single\;"><span style="color: black\;"><a href="https://buyandsell.gc.ca/procurement-data/">open data</a></span></u><span style="color: black\;"> including bid opportunities (tenders)\, standing offers and supply arrangements\, and contract history</span><br />\n<span style="color: black\;">3. Learn about the Build in Canada Innovation Program (BCIP) which helps kick-start businesses and get their innovative products and services from the lab to the marketplace.<br />\nIn 2013/14 the federal government awarded over $16 million in contracts in Surrey.</span></span></span>
LOCATION:Surrey Board of Trade 101 - 14439 104th Ave Surrey\, BC
UID:e.749.5489
SEQUENCE:3
DTSTAMP:20260421T180425Z
URL:https://business.swrbot.com/events/details/november-6-2017-business-centre-service-workshop-11-06-2017-5489
END:VEVENT

END:VCALENDAR
