BEGIN:VCALENDAR
VERSION:2.0
PRODID:-//ChamberMaster//Event Calendar 2.0//EN
METHOD:PUBLISH
X-PUBLISHED-TTL:P3D
REFRESH-INTERVAL:P3D
CALSCALE:GREGORIAN
BEGIN:VEVENT
DTSTART:20191107T013000Z
DTEND:20191107T033000Z
X-MICROSOFT-CDO-ALLDAYEVENT:FALSE
SUMMARY:November 6\, 2019 - Business to Business Hosted by MacDonald Realty Platinum Project Marketing
DESCRIPTION:Come and enjoy wine and hors d'oeuvres\, listen to great music\, and make new business contacts! Plus\, get a chance to view their amazing show home and learn about the exciting opportunities coming to this well-established neighbourhood. Be among the first to know about the upcoming Fall promotions!\n\n \n\n\nAmson Square is a new condo development coming to the corner of 144th and 72nd\, with commercial spaces below\, and 90 well-appointed homes above. With studio\, 1\, 2\, & 3 bedroom homes\, Amson Square can grow with you through any stage of life. Whether you are looking to invest\, live or enter the market for the first time\, Amson Square is the right choice\, at the right time\, at the right price.\n\n \n\n\n\n\nEvent payment is due upon registration. Cancellations for event attendance\, sponsorship\, or exhibitor space will not be refunded. An event registration is considered a commitment to pay. While event registration is non-refundable\, cancellations before three full business days of the event may be eligible for a credit towards a future event. Some exclusions apply.
X-ALT-DESC;FMTTYPE=text/html:<div>\n<div style="color: rgb(34\, 34\, 34)\; font-family: Arial\; font-size: 13.3333px\;"><span style="font-size: 12px\;"><span style="font-family: arial\;">Come and enjoy wine and hors d&rsquo\;oeuvres\, listen to great music\, and make new business contacts! Plus\, get a chance to view their amazing show home and learn about&nbsp\;<span style="letter-spacing: 0px\;">the exciting opportunities coming to this well-established neighbourhood. Be among the first to know about the upcoming Fall promotions!</span></span></span></div>\n\n<div style="color: rgb(34\, 34\, 34)\; font-family: Arial\; font-size: 13.3333px\;">&nbsp\;</div>\n\n<div style="font-family: Arial\; font-size: 13.3333px\; color: black\; margin: 0px\;">\n<div style="margin: 0px\;"><span style="font-size: 12px\;"><span style="font-family: arial\;">Amson Square is a new condo development coming to the corner of 144th and 72nd\, with commercial spaces below\, and 90 well-appointed homes above. With studio\, 1\, 2\, &amp\; 3 bedroom homes\, Amson Square can grow with you through any stage of life. Whether you are looking to invest\, live or enter the market for the first time\, Amson Square is the right choice\, at the right time\, at the right price.</span></span></div>\n\n<div style="margin: 0px\;">&nbsp\;</div>\n</div>\n\n<hr /><br />\n<span style="font-family: arial\;"><span style="font-size: 12px\;"><em><span style="color: rgb(34\, 34\, 34)\;">Event payment is due upon registration. Cancellations for event attendance\, sponsorship\, or exhibitor space will not be refunded. An event registration is considered a commitment to pay. While event registration is non-refundable\, cancellations before three full business days of the event may be eligible for a credit towards a future event. Some exclusions apply.</span></em></span></span></div>\n<br />\n<br />\n<br />\n<br />\n&nbsp\;
LOCATION:MacDonald Realty Platinum Project Marketing #102 15385 56 Avenue
UID:e.749.10621
SEQUENCE:3
DTSTAMP:20260420T111714Z
URL:https://business.swrbot.com/events/details/november-6-2019-business-to-business-hosted-by-macdonald-realty-platinum-project-marketing-11-06-2019-10621
END:VEVENT

END:VCALENDAR
