BEGIN:VCALENDAR
VERSION:2.0
PRODID:-//ChamberMaster//Event Calendar 2.0//EN
METHOD:PUBLISH
X-PUBLISHED-TTL:P3D
REFRESH-INTERVAL:P3D
CALSCALE:GREGORIAN
BEGIN:VEVENT
DTSTART:20171107T154500Z
DTEND:20171107T180000Z
X-MICROSOFT-CDO-ALLDAYEVENT:FALSE
SUMMARY:November 7\, 2017 - The Psychology of Persuasion and Influence - Workshop
DESCRIPTION:The only common core competency of some of the most critical things we do in life is Influence. Be it in leadership\, parenting\, negotiating\, conflict resolution\, sales or team building\, "when we are communicating we are influencing\, and we are being influenced." Participants in this workshop will learn and start using 6 key principles in business and everyday life situations to more effectively influence and persuade others to their point of view.\n\n\n\nThis workshop is facilitated by Tim McKinnon of Stride Business Coaching. \n\n\n\nTim's 30+ years experience in business started when he accepted a job with Simpsons Sears as a management trainee after graduating from BCIT with a marketing diploma in 1968. In 1973 he moved into the distribution side of the consumer electronics industry where he remained until starting his own business. Tim has been coaching and mentoring as a Sales Manager\, Branch Manager and General Manager of national and international consumer electronics distribution companies for more than 25 years in three provinces across Canada. And if that wasn't competitive enough in 1993 Tim started and grew a national PC distribution company to over 17.0M in revenue in 13 years. In September of 2007 Tim decided to make coaching his full time occupation when he became a licensed business coach with The Professional Business Coaches Alliance headquartered in Canton Ohio.
X-ALT-DESC;FMTTYPE=text/html:<span style="color: rgb(34\, 34\, 34)\; font-family: Arial\; font-size: 12.6667px\;">The only common core competency of some of the most critical things we do in life is Influence. Be it in leadership\, parenting\, negotiating\, conflict resolution\, sales or team building\, &ldquo\;when we are communicating we are influencing\, and we are being influenced.&rdquo\; Participants in this workshop will learn and start using 6 key principles in business and everyday life situations to more effectively influence and persuade others to their point of view.</span><br style="color: rgb(51\, 51\, 51)\; font-family: sans-serif\, Arial\, Verdana\, &quot\;Trebuchet MS&quot\;\; font-size: 13px\;" />\n<br style="color: rgb(51\, 51\, 51)\; font-family: sans-serif\, Arial\, Verdana\, &quot\;Trebuchet MS&quot\;\; font-size: 13px\;" />\n<strong style="color: rgb(51\, 51\, 51)\; font-family: sans-serif\, Arial\, Verdana\, &quot\;Trebuchet MS&quot\;\; font-size: 13px\;">This workshop is facilitated by&nbsp\;<span style="color: rgb(34\, 34\, 34)\; font-family: arial\, sans-serif\; font-size: 12.8px\;">Tim&nbsp\;McKinnon</span>&nbsp\;of&nbsp\;<a href="http://stridebusinesscoaching.com/" style="color: rgb(7\, 130\, 193)\;">Stride Business Coaching.&nbsp\;</a></strong><br style="color: rgb(51\, 51\, 51)\; font-family: sans-serif\, Arial\, Verdana\, &quot\;Trebuchet MS&quot\;\; font-size: 13px\;" />\n<br style="color: rgb(51\, 51\, 51)\; font-family: sans-serif\, Arial\, Verdana\, &quot\;Trebuchet MS&quot\;\; font-size: 13px\;" />\n<em style="color: rgb(51\, 51\, 51)\; font-family: sans-serif\, Arial\, Verdana\, &quot\;Trebuchet MS&quot\;\; font-size: 13px\;"><span style="color: rgb(0\, 0\, 0)\;"><span style="font-family: arial\;">Tim&#39\;s 30+ years experience in business started when he accepted a job with Simpsons Sears as a management trainee after graduating from&nbsp\;BCIT&nbsp\;with a marketing diploma in 1968. In 1973 he moved into the distribution side of the consumer electronics industry where he remained until starting his own business. Tim has been coaching and mentoring as a Sales Manager\, Branch Manager and General Manager of national and international consumer electronics distribution companies for more than 25 years in three provinces across Canada. And if that&nbsp\;wasn&rsquo\;t competitive enough in 1993 Tim started and grew a national PC distribution company to over 17.0M in revenue in 13 years. In September of 2007 Tim decided to make coaching his full time occupation when he became a licensed business coach with The Professional Business Coaches Alliance headquartered in Canton Ohio.</span></span></em><br />\n&nbsp\;
LOCATION:Surrey Board of Trade Conference Room 101-14439 104 Avenue\, Surrey
UID:e.749.5437
SEQUENCE:3
DTSTAMP:20260421T181734Z
URL:https://business.swrbot.com/events/details/november-7-2017-the-psychology-of-persuasion-and-influence-workshop-11-07-2017-5437
END:VEVENT

END:VCALENDAR
