BEGIN:VCALENDAR
VERSION:2.0
PRODID:-//ChamberMaster//Event Calendar 2.0//EN
METHOD:PUBLISH
X-PUBLISHED-TTL:P3D
REFRESH-INTERVAL:P3D
CALSCALE:GREGORIAN
BEGIN:VEVENT
DTSTART:20171011T003000Z
DTEND:20171011T013000Z
X-MICROSOFT-CDO-ALLDAYEVENT:FALSE
SUMMARY:October 10\, 2017 - Information Session on Global Trip to Australia
DESCRIPTION:The SBOT has arranged a special rate for you\, our valued member. We will be hosting an information session Tuesday\, Oct. 10th from 5:30 pm - 6:30 pm in the SBOT Conference Room (101\, 14439 104 Avenue) to give members an idea of what we'll be doing in Australia. \n\n\n\nIf members are interested in setting up business meetings we would be happy to arrange them. This trip can be utilized as a tax-write off.
X-ALT-DESC;FMTTYPE=text/html:<span style="font-size:12px"><span style="font-family:arial"><span style="color:#000000">The SBOT has arranged a </span><a data-saferedirecturl="https://www.google.com/url?hl=en&amp\;q=http://lander.indus.travel/australian-explorer&amp\;source=gmail&amp\;ust=1500400212997000&amp\;usg=AFQjCNHWlsvm81wiFCBeKIsroobpyQjX7A" href="http://lander.indus.travel/australian-explorer" target="_blank"><span style="color:#000000">special rate</span></a><span style="color:#000000"> for you\, our valued member. We will be hosting an <span class="m_-4179282062198757314m_-3898081503709335224m_7099679839280739389gmail-m_8007136567865345936gmail-m_8830446801759837671m_2629937112960711872m_5883006271013916416gmail-m_580950798824421524m_3322421215808716274gmail-m_-1821672594991128439m_5530873588432499738m_5066440215759714988m_5648285684869759766gmail-m_-4879772548657858369m_-2628311652636080647m_870489412423209232gmail-m_1366050367601269426m_-1855860877413622003m_-4703133387641772433m_-5182315033635587623gmail-m_5085462201459409520m_3963889413477692967m_6459228403707756050m_8734337805421787833gmail-il"><span class="m_-4179282062198757314m_-3898081503709335224m_7099679839280739389gmail-m_8007136567865345936gmail-m_8830446801759837671m_2629937112960711872m_5883006271013916416gmail-m_580950798824421524m_3322421215808716274gmail-il"><span class="m_-4179282062198757314m_-3898081503709335224m_7099679839280739389gmail-m_8007136567865345936gmail-il">information</span></span></span> <span class="m_-4179282062198757314m_-3898081503709335224m_7099679839280739389gmail-m_8007136567865345936gmail-m_8830446801759837671m_2629937112960711872m_5883006271013916416gmail-m_580950798824421524m_3322421215808716274gmail-m_-1821672594991128439m_5530873588432499738m_5066440215759714988m_5648285684869759766gmail-m_-4879772548657858369m_-2628311652636080647m_870489412423209232gmail-m_1366050367601269426m_-1855860877413622003m_-4703133387641772433m_-5182315033635587623gmail-m_5085462201459409520m_3963889413477692967m_6459228403707756050m_8734337805421787833gmail-il"><span class="m_-4179282062198757314m_-3898081503709335224m_7099679839280739389gmail-m_8007136567865345936gmail-m_8830446801759837671m_2629937112960711872m_5883006271013916416gmail-m_580950798824421524m_3322421215808716274gmail-il"><span class="m_-4179282062198757314m_-3898081503709335224m_7099679839280739389gmail-m_8007136567865345936gmail-il">session</span></span></span> <b>Tuesday<span class="m_-4179282062198757314m_-3898081503709335224m_7099679839280739389gmail-m_8007136567865345936gmail-m_8830446801759837671m_2629937112960711872m_5883006271013916416gmail-m_580950798824421524m_3322421215808716274gmail-m_-1821672594991128439m_5530873588432499738m_5066440215759714988m_5648285684869759766gmail-m_-4879772548657858369m_-2628311652636080647m_870489412423209232gmail-m_1366050367601269426m_-1855860877413622003m_-4703133387641772433m_-5182315033635587623gmail-m_5085462201459409520m_3963889413477692967m_6459228403707756050m_8734337805421787833gmail-m_-6407342167249458453m_207668487030701096m_-5841737245075567384gmail-m_2419084233310801648m_-7119292824145806384gmail-m_2439360079225137364aqj"><span class="m_-4179282062198757314m_-3898081503709335224m_7099679839280739389gmail-m_8007136567865345936gmail-m_8830446801759837671m_2629937112960711872m_5883006271013916416gmail-m_580950798824421524m_3322421215808716274gmail-m_-1821672594991128439m_5530873588432499738m_5066440215759714988m_5648285684869759766gmail-m_-4879772548657858369m_-2628311652636080647m_870489412423209232gmail-m_1366050367601269426m_-1855860877413622003m_-4703133387641772433m_-5182315033635587623gmail-m_5085462201459409520m_3963889413477692967m_6459228403707756050m_8734337805421787833gmail-m_-6407342167249458453m_207668487030701096m_-5841737245075567384gmail-m_2419084233310801648m_-7119292824145806384gmail-aBn"><span class="m_-4179282062198757314m_-3898081503709335224m_7099679839280739389gmail-m_8007136567865345936gmail-m_8830446801759837671m_2629937112960711872m_5883006271013916416gmail-m_580950798824421524m_3322421215808716274gmail-m_-1821672594991128439m_5530873588432499738m_5066440215759714988m_5648285684869759766gmail-m_-4879772548657858369m_-2628311652636080647m_870489412423209232gmail-m_1366050367601269426m_-1855860877413622003m_-4703133387641772433m_-5182315033635587623gmail-m_5085462201459409520m_3963889413477692967m_6459228403707756050m_8734337805421787833gmail-m_-6407342167249458453m_207668487030701096m_-5841737245075567384gmail-m_2419084233310801648m_-7119292824145806384gmail-aQJ"><span class="m_-4179282062198757314m_-3898081503709335224m_7099679839280739389gmail-m_8007136567865345936gmail-m_8830446801759837671m_2629937112960711872m_5883006271013916416gmail-m_580950798824421524m_3322421215808716274gmail-m_-1821672594991128439m_5530873588432499738m_5066440215759714988m_5648285684869759766gmail-m_-4879772548657858369m_-2628311652636080647m_870489412423209232gmail-m_1366050367601269426m_-1855860877413622003m_-4703133387641772433m_-5182315033635587623gmail-m_5085462201459409520m_3963889413477692967m_6459228403707756050m_8734337805421787833gmail-m_-6407342167249458453m_207668487030701096aBn"><span class="m_-4179282062198757314m_-3898081503709335224m_7099679839280739389gmail-m_8007136567865345936gmail-m_8830446801759837671m_2629937112960711872m_5883006271013916416gmail-m_580950798824421524m_3322421215808716274gmail-m_-1821672594991128439m_5530873588432499738m_5066440215759714988m_5648285684869759766gmail-m_-4879772548657858369m_-2628311652636080647m_870489412423209232gmail-m_1366050367601269426m_-1855860877413622003m_-4703133387641772433m_-5182315033635587623gmail-m_5085462201459409520m_3963889413477692967m_6459228403707756050m_8734337805421787833gmail-m_-6407342167249458453m_207668487030701096aQJ"><span class="m_-4179282062198757314m_-3898081503709335224m_7099679839280739389gmail-m_8007136567865345936gmail-m_8830446801759837671m_2629937112960711872m_5883006271013916416gmail-m_580950798824421524m_3322421215808716274gmail-m_-1821672594991128439m_5530873588432499738m_5066440215759714988m_5648285684869759766gmail-m_-4879772548657858369m_-2628311652636080647m_870489412423209232gmail-m_1366050367601269426m_-1855860877413622003m_-4703133387641772433m_-5182315033635587623gmail-m_5085462201459409520m_3963889413477692967m_6459228403707756050m_8734337805421787833gmail-m_-6407342167249458453aBn"><span class="m_-4179282062198757314m_-3898081503709335224m_7099679839280739389gmail-m_8007136567865345936gmail-m_8830446801759837671m_2629937112960711872m_5883006271013916416gmail-m_580950798824421524m_3322421215808716274gmail-m_-1821672594991128439m_5530873588432499738m_5066440215759714988m_5648285684869759766gmail-m_-4879772548657858369m_-2628311652636080647m_870489412423209232gmail-m_1366050367601269426m_-1855860877413622003m_-4703133387641772433m_-5182315033635587623gmail-m_5085462201459409520m_3963889413477692967m_6459228403707756050m_8734337805421787833gmail-m_-6407342167249458453aQJ"><span class="m_-4179282062198757314m_-3898081503709335224m_7099679839280739389gmail-m_8007136567865345936gmail-m_8830446801759837671m_2629937112960711872m_5883006271013916416gmail-m_580950798824421524m_3322421215808716274gmail-m_-1821672594991128439m_5530873588432499738m_5066440215759714988m_5648285684869759766gmail-m_-4879772548657858369m_-2628311652636080647m_870489412423209232gmail-m_1366050367601269426m_-1855860877413622003m_-4703133387641772433m_-5182315033635587623gmail-m_5085462201459409520m_3963889413477692967m_6459228403707756050m_8734337805421787833gmail-aBn"><span class="m_-4179282062198757314m_-3898081503709335224m_7099679839280739389gmail-m_8007136567865345936gmail-m_8830446801759837671m_2629937112960711872m_5883006271013916416gmail-m_580950798824421524m_3322421215808716274gmail-m_-1821672594991128439m_5530873588432499738m_5066440215759714988m_5648285684869759766gmail-m_-4879772548657858369m_-2628311652636080647m_870489412423209232gmail-m_1366050367601269426m_-1855860877413622003m_-4703133387641772433m_-5182315033635587623gmail-m_5085462201459409520m_3963889413477692967m_6459228403707756050m_8734337805421787833gmail-aQJ"><span class="m_-4179282062198757314m_-3898081503709335224m_7099679839280739389gmail-m_8007136567865345936gmail-m_8830446801759837671m_2629937112960711872m_5883006271013916416gmail-m_580950798824421524m_3322421215808716274gmail-m_-1821672594991128439m_5530873588432499738m_5066440215759714988m_5648285684869759766gmail-m_-4879772548657858369m_-2628311652636080647m_870489412423209232gmail-m_1366050367601269426m_-1855860877413622003m_-4703133387641772433m_-5182315033635587623gmail-m_5085462201459409520m_3963889413477692967m_6459228403707756050aBn"><span class="m_-4179282062198757314m_-3898081503709335224m_7099679839280739389gmail-m_8007136567865345936gmail-m_8830446801759837671m_2629937112960711872m_5883006271013916416gmail-m_580950798824421524m_3322421215808716274gmail-m_-1821672594991128439m_5530873588432499738m_5066440215759714988m_5648285684869759766gmail-m_-4879772548657858369m_-2628311652636080647m_870489412423209232gmail-m_1366050367601269426m_-1855860877413622003m_-4703133387641772433m_-5182315033635587623gmail-m_5085462201459409520m_3963889413477692967m_6459228403707756050aQJ"><span class="m_-4179282062198757314m_-3898081503709335224m_7099679839280739389gmail-m_8007136567865345936gmail-m_8830446801759837671m_2629937112960711872m_5883006271013916416gmail-m_580950798824421524m_3322421215808716274gmail-m_-1821672594991128439m_5530873588432499738m_5066440215759714988m_5648285684869759766gmail-m_-4879772548657858369m_-2628311652636080647m_870489412423209232gmail-m_1366050367601269426m_-1855860877413622003m_-4703133387641772433m_-5182315033635587623gmail-m_5085462201459409520m_3963889413477692967aBn"><span class="m_-4179282062198757314m_-3898081503709335224m_7099679839280739389gmail-m_8007136567865345936gmail-m_8830446801759837671m_2629937112960711872m_5883006271013916416gmail-m_580950798824421524m_3322421215808716274gmail-m_-1821672594991128439m_5530873588432499738m_5066440215759714988m_5648285684869759766gmail-m_-4879772548657858369m_-2628311652636080647m_870489412423209232gmail-m_1366050367601269426m_-1855860877413622003m_-4703133387641772433m_-5182315033635587623gmail-m_5085462201459409520m_3963889413477692967aQJ"><span class="m_-4179282062198757314m_-3898081503709335224m_7099679839280739389gmail-m_8007136567865345936gmail-m_8830446801759837671m_2629937112960711872m_5883006271013916416gmail-m_580950798824421524m_3322421215808716274gmail-m_-1821672594991128439m_5530873588432499738m_5066440215759714988m_5648285684869759766gmail-m_-4879772548657858369m_-2628311652636080647m_870489412423209232gmail-m_1366050367601269426m_-1855860877413622003m_-4703133387641772433aBn"><span class="m_-4179282062198757314m_-3898081503709335224m_7099679839280739389gmail-m_8007136567865345936gmail-m_8830446801759837671m_2629937112960711872m_5883006271013916416gmail-m_580950798824421524m_3322421215808716274gmail-m_-1821672594991128439m_5530873588432499738m_5066440215759714988m_5648285684869759766gmail-m_-4879772548657858369m_-2628311652636080647m_870489412423209232gmail-m_1366050367601269426m_-1855860877413622003m_-4703133387641772433aQJ"><span class="m_-4179282062198757314m_-3898081503709335224m_7099679839280739389gmail-m_8007136567865345936gmail-m_8830446801759837671m_2629937112960711872m_5883006271013916416gmail-m_580950798824421524m_3322421215808716274gmail-m_-1821672594991128439m_5530873588432499738m_5066440215759714988m_5648285684869759766gmail-aBn"><span class="m_-4179282062198757314m_-3898081503709335224m_7099679839280739389gmail-m_8007136567865345936gmail-m_8830446801759837671m_2629937112960711872m_5883006271013916416gmail-m_580950798824421524m_3322421215808716274gmail-m_-1821672594991128439m_5530873588432499738m_5066440215759714988m_5648285684869759766gmail-aQJ">\, Oct. </span></span><span class="m_-4179282062198757314m_-3898081503709335224m_7099679839280739389gmail-m_8007136567865345936gmail-m_8830446801759837671m_2629937112960711872m_5883006271013916416gmail-m_580950798824421524m_3322421215808716274gmail-m_-1821672594991128439m_5530873588432499738m_5066440215759714988m_5648285684869759766gmail-aBn"><span class="m_-4179282062198757314m_-3898081503709335224m_7099679839280739389gmail-m_8007136567865345936gmail-m_8830446801759837671m_2629937112960711872m_5883006271013916416gmail-m_580950798824421524m_3322421215808716274gmail-m_-1821672594991128439m_5530873588432499738m_5066440215759714988m_5648285684869759766gmail-aQJ">10th</span></span> </span></span></span></span></span></span></span></span></span></span></span></span></span></span></span>from <span class="m_-4179282062198757314m_-3898081503709335224m_7099679839280739389gmail-m_8007136567865345936gmail-m_8830446801759837671m_2629937112960711872m_5883006271013916416gmail-aBn"><span class="m_-4179282062198757314m_-3898081503709335224m_7099679839280739389gmail-m_8007136567865345936gmail-m_8830446801759837671m_2629937112960711872m_5883006271013916416gmail-aQJ"><span class="m_-4179282062198757314m_-3898081503709335224m_7099679839280739389gmail-m_8007136567865345936gmail-m_8830446801759837671m_2629937112960711872aBn"><span class="m_-4179282062198757314m_-3898081503709335224m_7099679839280739389gmail-m_8007136567865345936gmail-m_8830446801759837671m_2629937112960711872aQJ"><span class="m_-4179282062198757314m_-3898081503709335224m_7099679839280739389gmail-m_8007136567865345936gmail-m_8830446801759837671aBn"><span class="m_-4179282062198757314m_-3898081503709335224m_7099679839280739389gmail-m_8007136567865345936gmail-m_8830446801759837671aQJ"><span class="m_-4179282062198757314m_-3898081503709335224m_7099679839280739389gmail-m_8007136567865345936gmail-aBn"><span class="m_-4179282062198757314m_-3898081503709335224m_7099679839280739389gmail-m_8007136567865345936gmail-aQJ"><span class="m_-4179282062198757314aBn"><span class="m_-4179282062198757314aQJ"><span class="aBn" data-term="goog_1356788721" tabindex="0"><span class="aQJ">5:30</span></span></span></span></span></span></span></span></span></span></span></span> p<span class="m_-4179282062198757314m_-3898081503709335224m_7099679839280739389gmail-m_8007136567865345936gmail-m_8830446801759837671m_2629937112960711872m_5883006271013916416gmail-m_580950798824421524m_3322421215808716274gmail-m_-1821672594991128439m_5530873588432499738m_5066440215759714988m_5648285684869759766gmail-m_-4879772548657858369m_-2628311652636080647m_870489412423209232gmail-m_1366050367601269426m_-1855860877413622003m_-4703133387641772433m_-5182315033635587623gmail-m_5085462201459409520m_3963889413477692967m_6459228403707756050m_8734337805421787833gmail-m_-6407342167249458453m_207668487030701096m_-5841737245075567384gmail-m_2419084233310801648m_-7119292824145806384gmail-m_2439360079225137364aqj"><span class="m_-4179282062198757314m_-3898081503709335224m_7099679839280739389gmail-m_8007136567865345936gmail-m_8830446801759837671m_2629937112960711872m_5883006271013916416gmail-m_580950798824421524m_3322421215808716274gmail-m_-1821672594991128439m_5530873588432499738m_5066440215759714988m_5648285684869759766gmail-m_-4879772548657858369m_-2628311652636080647m_870489412423209232gmail-m_1366050367601269426m_-1855860877413622003m_-4703133387641772433m_-5182315033635587623gmail-m_5085462201459409520m_3963889413477692967m_6459228403707756050m_8734337805421787833gmail-m_-6407342167249458453m_207668487030701096m_-5841737245075567384gmail-m_2419084233310801648m_-7119292824145806384gmail-aBn"><span class="m_-4179282062198757314m_-3898081503709335224m_7099679839280739389gmail-m_8007136567865345936gmail-m_8830446801759837671m_2629937112960711872m_5883006271013916416gmail-m_580950798824421524m_3322421215808716274gmail-m_-1821672594991128439m_5530873588432499738m_5066440215759714988m_5648285684869759766gmail-m_-4879772548657858369m_-2628311652636080647m_870489412423209232gmail-m_1366050367601269426m_-1855860877413622003m_-4703133387641772433m_-5182315033635587623gmail-m_5085462201459409520m_3963889413477692967m_6459228403707756050m_8734337805421787833gmail-m_-6407342167249458453m_207668487030701096m_-5841737245075567384gmail-m_2419084233310801648m_-7119292824145806384gmail-aQJ"><span class="m_-4179282062198757314m_-3898081503709335224m_7099679839280739389gmail-m_8007136567865345936gmail-m_8830446801759837671m_2629937112960711872m_5883006271013916416gmail-m_580950798824421524m_3322421215808716274gmail-m_-1821672594991128439m_5530873588432499738m_5066440215759714988m_5648285684869759766gmail-m_-4879772548657858369m_-2628311652636080647m_870489412423209232gmail-m_1366050367601269426m_-1855860877413622003m_-4703133387641772433m_-5182315033635587623gmail-m_5085462201459409520m_3963889413477692967m_6459228403707756050m_8734337805421787833gmail-m_-6407342167249458453m_207668487030701096aBn"><span class="m_-4179282062198757314m_-3898081503709335224m_7099679839280739389gmail-m_8007136567865345936gmail-m_8830446801759837671m_2629937112960711872m_5883006271013916416gmail-m_580950798824421524m_3322421215808716274gmail-m_-1821672594991128439m_5530873588432499738m_5066440215759714988m_5648285684869759766gmail-m_-4879772548657858369m_-2628311652636080647m_870489412423209232gmail-m_1366050367601269426m_-1855860877413622003m_-4703133387641772433m_-5182315033635587623gmail-m_5085462201459409520m_3963889413477692967m_6459228403707756050m_8734337805421787833gmail-m_-6407342167249458453m_207668487030701096aQJ"><span class="m_-4179282062198757314m_-3898081503709335224m_7099679839280739389gmail-m_8007136567865345936gmail-m_8830446801759837671m_2629937112960711872m_5883006271013916416gmail-m_580950798824421524m_3322421215808716274gmail-m_-1821672594991128439m_5530873588432499738m_5066440215759714988m_5648285684869759766gmail-m_-4879772548657858369m_-2628311652636080647m_870489412423209232gmail-m_1366050367601269426m_-1855860877413622003m_-4703133387641772433m_-5182315033635587623gmail-m_5085462201459409520m_3963889413477692967m_6459228403707756050m_8734337805421787833gmail-m_-6407342167249458453aBn"><span class="m_-4179282062198757314m_-3898081503709335224m_7099679839280739389gmail-m_8007136567865345936gmail-m_8830446801759837671m_2629937112960711872m_5883006271013916416gmail-m_580950798824421524m_3322421215808716274gmail-m_-1821672594991128439m_5530873588432499738m_5066440215759714988m_5648285684869759766gmail-m_-4879772548657858369m_-2628311652636080647m_870489412423209232gmail-m_1366050367601269426m_-1855860877413622003m_-4703133387641772433m_-5182315033635587623gmail-m_5085462201459409520m_3963889413477692967m_6459228403707756050m_8734337805421787833gmail-m_-6407342167249458453aQJ"><span class="m_-4179282062198757314m_-3898081503709335224m_7099679839280739389gmail-m_8007136567865345936gmail-m_8830446801759837671m_2629937112960711872m_5883006271013916416gmail-m_580950798824421524m_3322421215808716274gmail-m_-1821672594991128439m_5530873588432499738m_5066440215759714988m_5648285684869759766gmail-m_-4879772548657858369m_-2628311652636080647m_870489412423209232gmail-m_1366050367601269426m_-1855860877413622003m_-4703133387641772433m_-5182315033635587623gmail-m_5085462201459409520m_3963889413477692967m_6459228403707756050m_8734337805421787833gmail-aBn"><span class="m_-4179282062198757314m_-3898081503709335224m_7099679839280739389gmail-m_8007136567865345936gmail-m_8830446801759837671m_2629937112960711872m_5883006271013916416gmail-m_580950798824421524m_3322421215808716274gmail-m_-1821672594991128439m_5530873588432499738m_5066440215759714988m_5648285684869759766gmail-m_-4879772548657858369m_-2628311652636080647m_870489412423209232gmail-m_1366050367601269426m_-1855860877413622003m_-4703133387641772433m_-5182315033635587623gmail-m_5085462201459409520m_3963889413477692967m_6459228403707756050m_8734337805421787833gmail-aQJ"><span class="m_-4179282062198757314m_-3898081503709335224m_7099679839280739389gmail-m_8007136567865345936gmail-m_8830446801759837671m_2629937112960711872m_5883006271013916416gmail-m_580950798824421524m_3322421215808716274gmail-m_-1821672594991128439m_5530873588432499738m_5066440215759714988m_5648285684869759766gmail-m_-4879772548657858369m_-2628311652636080647m_870489412423209232gmail-m_1366050367601269426m_-1855860877413622003m_-4703133387641772433m_-5182315033635587623gmail-m_5085462201459409520m_3963889413477692967m_6459228403707756050aBn"><span class="m_-4179282062198757314m_-3898081503709335224m_7099679839280739389gmail-m_8007136567865345936gmail-m_8830446801759837671m_2629937112960711872m_5883006271013916416gmail-m_580950798824421524m_3322421215808716274gmail-m_-1821672594991128439m_5530873588432499738m_5066440215759714988m_5648285684869759766gmail-m_-4879772548657858369m_-2628311652636080647m_870489412423209232gmail-m_1366050367601269426m_-1855860877413622003m_-4703133387641772433m_-5182315033635587623gmail-m_5085462201459409520m_3963889413477692967m_6459228403707756050aQJ"><span class="m_-4179282062198757314m_-3898081503709335224m_7099679839280739389gmail-m_8007136567865345936gmail-m_8830446801759837671m_2629937112960711872m_5883006271013916416gmail-m_580950798824421524m_3322421215808716274gmail-m_-1821672594991128439m_5530873588432499738m_5066440215759714988m_5648285684869759766gmail-m_-4879772548657858369m_-2628311652636080647m_870489412423209232gmail-m_1366050367601269426m_-1855860877413622003m_-4703133387641772433m_-5182315033635587623gmail-m_5085462201459409520m_3963889413477692967aBn"><span class="m_-4179282062198757314m_-3898081503709335224m_7099679839280739389gmail-m_8007136567865345936gmail-m_8830446801759837671m_2629937112960711872m_5883006271013916416gmail-m_580950798824421524m_3322421215808716274gmail-m_-1821672594991128439m_5530873588432499738m_5066440215759714988m_5648285684869759766gmail-m_-4879772548657858369m_-2628311652636080647m_870489412423209232gmail-m_1366050367601269426m_-1855860877413622003m_-4703133387641772433m_-5182315033635587623gmail-m_5085462201459409520m_3963889413477692967aQJ"><span class="m_-4179282062198757314m_-3898081503709335224m_7099679839280739389gmail-m_8007136567865345936gmail-m_8830446801759837671m_2629937112960711872m_5883006271013916416gmail-m_580950798824421524m_3322421215808716274gmail-m_-1821672594991128439m_5530873588432499738m_5066440215759714988m_5648285684869759766gmail-m_-4879772548657858369m_-2628311652636080647m_870489412423209232gmail-m_1366050367601269426m_-1855860877413622003m_-4703133387641772433m_-5182315033635587623gmail-aBn"><span class="m_-4179282062198757314m_-3898081503709335224m_7099679839280739389gmail-m_8007136567865345936gmail-m_8830446801759837671m_2629937112960711872m_5883006271013916416gmail-m_580950798824421524m_3322421215808716274gmail-m_-1821672594991128439m_5530873588432499738m_5066440215759714988m_5648285684869759766gmail-m_-4879772548657858369m_-2628311652636080647m_870489412423209232gmail-m_1366050367601269426m_-1855860877413622003m_-4703133387641772433m_-5182315033635587623gmail-aQJ"><span class="m_-4179282062198757314m_-3898081503709335224m_7099679839280739389gmail-m_8007136567865345936gmail-m_8830446801759837671m_2629937112960711872m_5883006271013916416gmail-m_580950798824421524m_3322421215808716274gmail-m_-1821672594991128439m_5530873588432499738m_5066440215759714988m_5648285684869759766gmail-m_-4879772548657858369m_-2628311652636080647m_870489412423209232gmail-m_1366050367601269426m_-1855860877413622003m_-4703133387641772433aBn"><span class="m_-4179282062198757314m_-3898081503709335224m_7099679839280739389gmail-m_8007136567865345936gmail-m_8830446801759837671m_2629937112960711872m_5883006271013916416gmail-m_580950798824421524m_3322421215808716274gmail-m_-1821672594991128439m_5530873588432499738m_5066440215759714988m_5648285684869759766gmail-m_-4879772548657858369m_-2628311652636080647m_870489412423209232gmail-m_1366050367601269426m_-1855860877413622003m_-4703133387641772433aQJ"><span class="m_-4179282062198757314m_-3898081503709335224m_7099679839280739389gmail-m_8007136567865345936gmail-m_8830446801759837671m_2629937112960711872m_5883006271013916416gmail-m_580950798824421524m_3322421215808716274gmail-m_-1821672594991128439m_5530873588432499738m_5066440215759714988m_5648285684869759766gmail-m_-4879772548657858369m_-2628311652636080647m_870489412423209232gmail-aBn"><span class="m_-4179282062198757314m_-3898081503709335224m_7099679839280739389gmail-m_8007136567865345936gmail-m_8830446801759837671m_2629937112960711872m_5883006271013916416gmail-m_580950798824421524m_3322421215808716274gmail-m_-1821672594991128439m_5530873588432499738m_5066440215759714988m_5648285684869759766gmail-m_-4879772548657858369m_-2628311652636080647m_870489412423209232gmail-aQJ"><span class="m_-4179282062198757314m_-3898081503709335224m_7099679839280739389gmail-m_8007136567865345936gmail-m_8830446801759837671m_2629937112960711872m_5883006271013916416gmail-m_580950798824421524m_3322421215808716274gmail-m_-1821672594991128439m_5530873588432499738m_5066440215759714988m_5648285684869759766gmail-aBn"><span class="m_-4179282062198757314m_-3898081503709335224m_7099679839280739389gmail-m_8007136567865345936gmail-m_8830446801759837671m_2629937112960711872m_5883006271013916416gmail-m_580950798824421524m_3322421215808716274gmail-m_-1821672594991128439m_5530873588432499738m_5066440215759714988m_5648285684869759766gmail-aQJ"><span class="m_-4179282062198757314m_-3898081503709335224m_7099679839280739389gmail-m_8007136567865345936gmail-m_8830446801759837671m_2629937112960711872m_5883006271013916416gmail-m_580950798824421524m_3322421215808716274gmail-m_-1821672594991128439m_5530873588432499738m_5066440215759714988aBn"><span class="m_-4179282062198757314m_-3898081503709335224m_7099679839280739389gmail-m_8007136567865345936gmail-m_8830446801759837671m_2629937112960711872m_5883006271013916416gmail-m_580950798824421524m_3322421215808716274gmail-m_-1821672594991128439m_5530873588432499738m_5066440215759714988aQJ"><span class="m_-4179282062198757314m_-3898081503709335224m_7099679839280739389gmail-m_8007136567865345936gmail-m_8830446801759837671m_2629937112960711872m_5883006271013916416gmail-m_580950798824421524m_3322421215808716274gmail-m_-1821672594991128439m_5530873588432499738aBn"><span class="m_-4179282062198757314m_-3898081503709335224m_7099679839280739389gmail-m_8007136567865345936gmail-m_8830446801759837671m_2629937112960711872m_5883006271013916416gmail-m_580950798824421524m_3322421215808716274gmail-m_-1821672594991128439m_5530873588432499738aQJ">m - <span class="m_-4179282062198757314m_-3898081503709335224m_7099679839280739389gmail-m_8007136567865345936gmail-m_8830446801759837671m_2629937112960711872m_5883006271013916416gmail-m_580950798824421524aBn"><span class="m_-4179282062198757314m_-3898081503709335224m_7099679839280739389gmail-m_8007136567865345936gmail-m_8830446801759837671m_2629937112960711872m_5883006271013916416gmail-m_580950798824421524aQJ"><span class="m_-4179282062198757314m_-3898081503709335224m_7099679839280739389gmail-m_8007136567865345936gmail-m_8830446801759837671m_2629937112960711872m_5883006271013916416gmail-aBn"><span class="m_-4179282062198757314m_-3898081503709335224m_7099679839280739389gmail-m_8007136567865345936gmail-m_8830446801759837671m_2629937112960711872m_5883006271013916416gmail-aQJ"><span class="m_-4179282062198757314m_-3898081503709335224m_7099679839280739389gmail-m_8007136567865345936gmail-m_8830446801759837671m_2629937112960711872aBn"><span class="m_-4179282062198757314m_-3898081503709335224m_7099679839280739389gmail-m_8007136567865345936gmail-m_8830446801759837671m_2629937112960711872aQJ"><span class="m_-4179282062198757314m_-3898081503709335224m_7099679839280739389gmail-m_8007136567865345936gmail-m_8830446801759837671aBn"><span class="m_-4179282062198757314m_-3898081503709335224m_7099679839280739389gmail-m_8007136567865345936gmail-m_8830446801759837671aQJ"><span class="m_-4179282062198757314m_-3898081503709335224m_7099679839280739389gmail-m_8007136567865345936gmail-aBn"><span class="m_-4179282062198757314m_-3898081503709335224m_7099679839280739389gmail-m_8007136567865345936gmail-aQJ"><span class="m_-4179282062198757314aBn"><span class="m_-4179282062198757314aQJ"><span class="aBn" data-term="goog_1356788722" tabindex="0"><span class="aQJ">6:30 pm</span></span></span></span></span></span></span></span></span></span></span></span></span></span></span></span></span></span></span></span></span></span></span></span></span></span></span></span></span></span></span></span></span></span></span></span></span></span></span> in the SBOT Conference Room (101\, 14439 104 Avenue)</b> to give members an idea of what we&#39\;ll be doing in <span class="il">Australia</span><b>. </b><br />\n<br />\nIf members are interested in setting up business meetings we would be happy to arrange them. This <span class="il">trip</span> can be utilized as a tax-write off.</span></span></span><br />\n&nbsp\;
LOCATION:Surrey Board of Trade Board Room 101\, 14439 104th Avenue\, Surrey
UID:e.749.5464
SEQUENCE:3
DTSTAMP:20260421T192411Z
URL:https://business.swrbot.com/events/details/october-10-2017-information-session-on-global-trip-to-australia-10-10-2017-5464
END:VEVENT

END:VCALENDAR
