BEGIN:VCALENDAR
VERSION:2.0
PRODID:-//ChamberMaster//Event Calendar 2.0//EN
METHOD:PUBLISH
X-PUBLISHED-TTL:P3D
REFRESH-INTERVAL:P3D
CALSCALE:GREGORIAN
BEGIN:VEVENT
DTSTART:20181011T003000Z
DTEND:20181011T030000Z
X-MICROSOFT-CDO-ALLDAYEVENT:FALSE
SUMMARY:October 10\, 2018 - SURREY MAYOR'S CANDIDATES DIALOGUE
DESCRIPTION:CANDIDATES MUST REGISTER WITH ANNE IN ADVANCE - anne@businessinsurrey.com\n\n\n\nWho runs the City of Surrey will be critically important to the business community. Will that person be responsive to business needs? Will economic development and city building be a priority? What will the new mayor? vision be for the future?\n\n \n\nAttend and listen to the candidates as they describe what they would do as Mayor of Surrey.\n\n\n\nAre you a candidate? Send your contact information\, and your Campaign Manager's contact information\, to Anne@businessinsurrey.com. \n\n \n\nHave a question? Submit to Anne@businessinsurrey.com by October 5. There will be no live questions at the event.
X-ALT-DESC;FMTTYPE=text/html:<span style="font-size:16px\;"><span style="font-family:arial\;"><strong>CANDIDATES MUST REGISTER WITH ANNE IN ADVANCE - </strong>anne@businessinsurrey.com</span></span><br />\n<br />\nWho runs the City of Surrey will be critically important to the business community. Will that person be responsive to business needs? Will economic development and city building be a priority? What will the new mayor? vision be for the future?<br />\n&nbsp\;<br />\nAttend and listen to the candidates as they describe what they would do as Mayor of Surrey.<br />\n<br />\n<strong><span style="font-family:helvetica neue\;"><span style="font-size:10.0pt\;">Are you a candidate?</span></span></strong><span style="font-family:helvetica neue\;"><span style="font-size:10.0pt\;"> Send your contact information\, and your Campaign Manager&#39\;s contact information\, to </span></span><span style="font-family:helvetica neue\;"><span style="font-size:10.0pt\;"><a href="mailto:Anne@businessinsurrey.com">Anne@businessinsurrey.com</a></span></span><span style="font-family:helvetica neue\;"><span style="font-size:10.0pt\;">.<strong> </strong></span></span><br />\n<span style="font-size:16px\;"><strong>&nbsp\;</strong></span><br />\n<strong>Have a question?</strong> Submit to <a href="mailto:Anne@businessinsurrey.com">Anne@businessinsurrey.com</a> by October 5. There will be no live questions at the event.<br />\n&nbsp\;<br />\n&nbsp\;
LOCATION:Sheraton Vancouver Guildford Hotel (15269 104 Ave\, Surrey)
UID:e.749.9428
SEQUENCE:3
DTSTAMP:20260421T042428Z
URL:https://business.swrbot.com/events/details/october-10-2018-surrey-mayor-s-candidates-dialogue-10-10-2018-9428
END:VEVENT

END:VCALENDAR
