BEGIN:VCALENDAR
VERSION:2.0
PRODID:-//ChamberMaster//Event Calendar 2.0//EN
METHOD:PUBLISH
X-PUBLISHED-TTL:P3D
REFRESH-INTERVAL:P3D
CALSCALE:GREGORIAN
BEGIN:VEVENT
DTSTART:20161012T144500Z
DTEND:20161012T163000Z
X-MICROSOFT-CDO-ALLDAYEVENT:FALSE
SUMMARY:October 12\, 2016 - Campbell Heights Business Safety Breakfast
DESCRIPTION:This is an opportunity to hear an update on business safety issues in your community\, focusing on the Campbell Heights neighborhood. Please come prepared with questions or issues that your business would like to address.\n\n\n\nFeaturing Guest Speakers From:\n\n\n	The Surrey RCMP\n	The City of Surrey\n	Metro Vancouver Crime Stoppers
X-ALT-DESC;FMTTYPE=text/html:This is an opportunity to hear an update on business safety issues in your community\, focusing on the Campbell Heights neighborhood. Please come prepared with questions or issues that your business would like to address.<br />\n<br />\n<strong>Featuring Guest Speakers From:</strong>\n\n<ul>\n	<li>The Surrey RCMP</li>\n	<li>The City of Surrey</li>\n	<li>Metro Vancouver Crime Stoppers</li>\n</ul>\n
LOCATION:Atlas Logistics (2755 192 Street\, Surrey)
UID:e.749.3756
SEQUENCE:3
DTSTAMP:20260424T083205Z
URL:https://business.swrbot.com/events/details/october-12-2016-campbell-heights-business-safety-breakfast-10-12-2016-3756
END:VEVENT

END:VCALENDAR
