BEGIN:VCALENDAR
VERSION:2.0
PRODID:-//ChamberMaster//Event Calendar 2.0//EN
METHOD:PUBLISH
X-PUBLISHED-TTL:P3D
REFRESH-INTERVAL:P3D
CALSCALE:GREGORIAN
BEGIN:VEVENT
DTSTART:20171012T144500Z
DTEND:20171012T170000Z
X-MICROSOFT-CDO-ALLDAYEVENT:FALSE
SUMMARY:October 12\, 2017 - Wake Up for You: How a Powerful Morning Routine Can Transform Your Day - Workshop
DESCRIPTION:What time do you set your alarm for? Do you wake up with a huge smile on your face or is the snooze button your best friend. Scott will share why when you wake up is just as important as what you do in the first hour. Through his own experiences and experiments\, Scott will get you motivated to leave your pillow behind and change your mornings forever.\n\n\n\nYou will learn: \n\n	How to create an energizing morning routine that will impact your entire day\n	Why hitting the snooze button is worse than getting fewer hours of sleep\n	There is no such thing as an early bird or night owl personality\n	Why you should never check email during the first hour of the day\n	To make the time commuting to work effective and productive\n\n\n\nThis workshop is facilitated by Scott Friesen\, founder of Simpletivity training and consulting. \n\n\n\nScott Friesen is not too busy. He's productive. There's a difference. He is also the founder of Simpletivity training and consulting.\n\n\n\nAs a 'busyness killer'\,'Scott helps people from all over the world improve their productivity. His time management techniques have benefited thousands of individuals and organizations alike. Managing email overload\, never ending to-do lists\, and technology distractions are among Scott's specialties. \n\n\n\nThrough speeches\, courses\, and workshops\, Scott provides powerful tools to those who want more out of their day. He has dedicated his life to helping others focus on what is most important and to do it with less stress. Because being too busy isn't productive.
X-ALT-DESC;FMTTYPE=text/html:<span style="font-size:12px\;"><span style="color:#000000\;"><span style="background-color: rgb(255\, 255\, 255)\;">What time do you set your alarm for? Do you wake up with a huge smile on your face or is the snooze button your best friend. Scott will share why when you wake up is just as important as what you do in the first hour. Through his own experiences and experiments\, Scott will get you motivated to leave your pillow behind and change your mornings forever.<br />\n<br />\nYou will learn:&nbsp\;</span></span></span>\n<ul style="padding-top: 0px\; padding-right: 0px\; padding-bottom: 0px\; color: rgb(102\, 102\, 102)\; font-family: Arial\; font-size: 17px\; background-color: rgb(255\, 255\, 255)\; margin: 5px 0px !important\; padding-left: 3em !important\; list-style-position: outside !important\; list-style-image: initial !important\;">\n	<li style="margin: 3px 0px 0px !important\; padding-top: 0px\; padding-right: 0px\; padding-bottom: 0px\; padding-left: 5px !important\; list-style: disc outside !important\;"><span style="font-size:12px\;"><span style="color:#000000\;">How to create an energizing morning routine that will impact your entire day</span></span></li>\n	<li style="margin: 3px 0px 0px !important\; padding-top: 0px\; padding-right: 0px\; padding-bottom: 0px\; padding-left: 5px !important\; list-style: disc outside !important\;"><span style="font-size:12px\;"><span style="color:#000000\;">Why hitting the snooze button is worse than getting fewer hours of sleep</span></span></li>\n	<li style="margin: 3px 0px 0px !important\; padding-top: 0px\; padding-right: 0px\; padding-bottom: 0px\; padding-left: 5px !important\; list-style: disc outside !important\;"><span style="font-size:12px\;"><span style="color:#000000\;">There is no such thing as an early bird or night owl personality</span></span></li>\n	<li style="margin: 3px 0px 0px !important\; padding-top: 0px\; padding-right: 0px\; padding-bottom: 0px\; padding-left: 5px !important\; list-style: disc outside !important\;"><span style="font-size:12px\;"><span style="color:#000000\;">Why you should never check email during the first hour of the day</span></span></li>\n	<li style="margin: 3px 0px 0px !important\; padding-top: 0px\; padding-right: 0px\; padding-bottom: 0px\; padding-left: 5px !important\; list-style: disc outside !important\;"><span style="font-size:12px\;"><span style="color:#000000\;">To make the time commuting to work effective and productive</span></span></li>\n</ul>\n<br />\n<strong>This workshop is facilitated by Scott Friesen\, founder of <a href="https://www.simpletivity.com/">Simpletivity&nbsp\;training and consulting.&nbsp\;</a></strong>\n\n<p style="background: 0px 0px rgb(255\, 255\, 255)\; border: 0px\; margin: 0px\; padding: 0px\; vertical-align: baseline\; outline: 0px\; line-height: 28px\;"><br />\n<em style="color: rgb(103\, 103\, 103)\; font-family: Roboto\, sans-serif\; font-size: 14px\;"><span style="color:#000000\;"><span style="font-size: 17px\; background-color: rgb(255\, 255\, 255)\;"><span style="font-size:12px\;">Scott Friesen is not too busy. He&rsquo\;s productive. There&rsquo\;s a difference. He is also the founder of Simpletivity&nbsp\;</span></span></span></em><span style="color: rgb(103\, 103\, 103)\; font-family: Roboto\, sans-serif\; font-size: 12px\;"><em><span style="color:#000000\;"><span style="background-color: rgb(255\, 255\, 255)\;">training and consulting.</span><br />\n<br style="color: rgb(102\, 102\, 102)\; font-family: Arial\; font-size: 17px\; background-color: rgb(255\, 255\, 255)\;" />\n<span style="background-color: rgb(255\, 255\, 255)\;">As a &#39\;busyness killer&#39\;\,&#39\;</span></span></em></span><em style=""><span style="color: rgb(0\, 0\, 0)\; font-family: Roboto\, sans-serif\; font-size: 12px\; background-color: rgb(255\, 255\, 255)\;">Scott helps people from all over the world improve their productivity. His time management techniques have benefited thousands of individuals and organizations alike. Managing email overload\, never ending to-do lists\, and technology distractions are among Scott&rsquo\;s specialties.&nbsp\;</span><br />\n<br style="color: rgb(102\, 102\, 102)\; font-family: Arial\; font-size: 17px\; background-color: rgb(255\, 255\, 255)\;" />\n<span style="background-color: rgb(255\, 255\, 255)\;"><font color="#000000" face="Roboto\, sans-serif"><span style="font-size: 12px\;">Through speeches\, courses\, and workshops\, Scott provides powerful tools to those who want more out of their day. He has dedicated his life to helping others focus on what is most important and to do it with less stress. Because being too busy isn&#39\;t productive. &nbsp\;</span></font></span></em></p>\n
LOCATION:Surrey Board of Trade Conference Room 101-14439 104 Avenue\, Surrey
UID:e.749.5448
SEQUENCE:3
DTSTAMP:20260421T192402Z
URL:https://business.swrbot.com/events/details/october-12-2017-wake-up-for-you-how-a-powerful-morning-routine-can-transform-your-day-workshop-10-12-2017-5448
END:VEVENT

END:VCALENDAR
