BEGIN:VCALENDAR
VERSION:2.0
PRODID:-//ChamberMaster//Event Calendar 2.0//EN
METHOD:PUBLISH
X-PUBLISHED-TTL:P3D
REFRESH-INTERVAL:P3D
CALSCALE:GREGORIAN
BEGIN:VEVENT
DTSTART:20171013T143000Z
DTEND:20171013T163000Z
X-MICROSOFT-CDO-ALLDAYEVENT:FALSE
SUMMARY:October 13\, 2017 - Surrey Hot Topic Series: Connecting Industry Needs to Curriculum Development
DESCRIPTION:The Surrey Board of Trade has\, since 2008\, worked with businesses and education stakeholders to facilitate dialogues and develop a base of shared understandings. What else does business need from education stakeholders? What do those in grade school and post-secondary need to know from businesses? With ever evolving labour needs and skills development\, have your say at this interactive dialogue. Hear from panelists: \n\n	Jason Leber - Program Manager\, Youth\, Industry Training Authority\n	Dr. Salvador Ferreras - Provost and Vice President Academic for Kwantlen Polytechnic University\n	Mark Flynn - Principal\, Career Education for Surrey Schools\n	Trent Konrad - Western Technical Outreach Officer\, CWA Foundation\n\nFacilitated by Dr. Greg Thomas\, G3 Consulting Ltd.\, Chair\, Surrey Board of Trade.
X-ALT-DESC;FMTTYPE=text/html:<span style="font-size:12px\;"><span style="font-family: arial\;">The Surrey Board of Trade has\, since 2008\, worked with businesses and education stakeholders to facilitate dialogues and develop a base of shared understandings. What else does business need from education stakeholders? What do those in grade school and post-secondary need to know from businesses? With ever evolving labour needs and skills development\, have your say at this interactive dialogue. Hear from panelists:&nbsp\;</span></span>\n<ul>\n	<li style="margin:0px 0px 0px 15px\;"><span style="font-size:12px\;"><span style="font-family:arial\;"><span style="background-color: rgb(255\, 255\, 255)\;">Jason Leber - Program Manager\, Youth\, Industry Training Authority</span></span></span></li>\n	<li style="margin:0px 0px 0px 15px\;"><span style="color:black\;"><span style="font-family:arial\,sans-serif\;"><span style="font-size:9pt\;">Dr. Salvador Ferreras -&nbsp\;</span></span></span><span style="color:black\;"><span style="font-family:arial\,sans-serif\;"><span style="font-size:9pt\;">Provost and Vice President Academic for Kwantlen Polytechnic University</span></span></span></li>\n	<li style="margin:0px 0px 0px 15px\;"><span style="color:black\;"><span style="font-family:arial\,sans-serif\;"><span style="font-size:9pt\;">Mark Flynn - Principal\, Career Education for Surrey Schools</span></span></span></li>\n	<li style="margin:0px 0px 0px 15px\;"><span style="color:black\;"><span style="font-family:arial\,sans-serif\;"><span style="font-size:9pt\;">Trent Konrad -&nbsp\;Western Technical Outreach Officer\, CWA Foundation</span></span></span></li>\n</ul>\n<span style="font-size:12px\;"><span style="font-family: arial\;">Facilitated by Dr. Greg Thomas\, G3 Consulting Ltd.\, Chair\, Surrey Board of Trade.</span></span>
LOCATION:Guildford Golf & Country Club\, 7929 152 Street\, Surrey
UID:e.749.5201
SEQUENCE:3
DTSTAMP:20260421T192413Z
URL:https://business.swrbot.com/events/details/october-13-2017-surrey-hot-topic-series-connecting-industry-needs-to-curriculum-development-10-13-2017-5201
END:VEVENT

END:VCALENDAR
