BEGIN:VCALENDAR
VERSION:2.0
PRODID:-//ChamberMaster//Event Calendar 2.0//EN
METHOD:PUBLISH
X-PUBLISHED-TTL:P3D
REFRESH-INTERVAL:P3D
CALSCALE:GREGORIAN
BEGIN:VEVENT
DTSTART:20141015T144500Z
DTEND:20141015T170000Z
X-MICROSOFT-CDO-ALLDAYEVENT:FALSE
SUMMARY:October 15\, 2014 - Effective Retails Strategies PT 1
DESCRIPTION:Creating Effective Selling Spaces\n\n\n\nHow can you maximize sales within your limited shop space? Learn how shop layout can influence shopping behaviour\n\n	Employ layout strategies that influence sales performance\n	Know the three basic layout design options you can easily apply to your selling space\n	Utilize layout strategies that provide easy access to your merchandise\n	Realize the importance of core vs. peripheral merchandise placements in maximizing selling opportunities
X-ALT-DESC;FMTTYPE=text/html:Creating Effective Selling Spaces<br />\n<br />\nHow can you maximize sales within your limited shop space? Learn how shop layout can influence shopping behaviour\n<ul>\n	<li>Employ layout strategies that influence sales performance</li>\n	<li>Know the three basic layout design options you can easily apply to your selling space</li>\n	<li>Utilize layout strategies that provide easy access to your merchandise</li>\n	<li>Realize the importance of core vs. peripheral merchandise placements in maximizing selling opportunities</li>\n</ul>\n
LOCATION:Surrey Board of Trade Conference Room 101-14439 104 Avenue\, Surrey
UID:e.749.2683
SEQUENCE:3
DTSTAMP:20260425T151734Z
URL:https://business.swrbot.com/events/details/october-15-2014-effective-retails-strategies-pt-1-10-15-2014-2683
END:VEVENT

END:VCALENDAR
