BEGIN:VCALENDAR
VERSION:2.0
PRODID:-//ChamberMaster//Event Calendar 2.0//EN
METHOD:PUBLISH
X-PUBLISHED-TTL:P3D
REFRESH-INTERVAL:P3D
CALSCALE:GREGORIAN
BEGIN:VEVENT
DTSTART:20141016T003000Z
DTEND:20141016T033000Z
X-MICROSOFT-CDO-ALLDAYEVENT:FALSE
SUMMARY:October 15\, 2014 - Innovative Labour Solutions Awards
DESCRIPTION:Hiring People with Disabilities\n\nINNOVATIVE LABOUR SOLUTIONS AWARDS.\n\n\n\nThree awards will be given at a recognition event on Wednesday\, October 15\, 2014.\n\n\n\nThe City of Surrey\, the Rotary Club of Surrey\, Milieu Employment Services\, Community Living BC\, and the Surrey Board of Trade are recognizing employers and businesses in your community that have gone above and beyond to create a welcoming workplace where everyone feels valued and respected\, promotes inclusive hiring and provides meaningful employment opportunities for adults with developmental disabilities.
X-ALT-DESC;FMTTYPE=text/html:Hiring People with Disabilities<br />\n<strong>INNOVATIVE LABOUR SOLUTIONS AWARDS</strong>.<br />\n<br />\nThree awards will be given at a recognition event on Wednesday\, October 15\, 2014.<br />\n<br />\nThe City of Surrey\, the Rotary Club of Surrey\, Milieu Employment Services\, Community Living BC\, and the Surrey Board of Trade are recognizing employers and businesses in your community that have gone above and beyond to create a welcoming workplace where everyone feels valued and respected\, promotes inclusive hiring and provides meaningful employment opportunities for adults with developmental disabilities.
LOCATION:Eaglequest Golf Course 7778 - 152 Street Surrey\, BC
UID:e.749.2775
SEQUENCE:3
DTSTAMP:20260425T162521Z
URL:https://business.swrbot.com/events/details/october-15-2014-innovative-labour-solutions-awards-10-15-2014-2775
END:VEVENT

END:VCALENDAR
