BEGIN:VCALENDAR
VERSION:2.0
PRODID:-//ChamberMaster//Event Calendar 2.0//EN
METHOD:PUBLISH
X-PUBLISHED-TTL:P3D
REFRESH-INTERVAL:P3D
CALSCALE:GREGORIAN
BEGIN:VEVENT
DTSTART:20151015T200000Z
DTEND:20151015T230000Z
X-MICROSOFT-CDO-ALLDAYEVENT:FALSE
SUMMARY:October 15\, 2015 - KPU Career Crawl - Bus Tour
DESCRIPTION:KPU Career Crawl   Bus Tour\n \n\nAt the Surrey Board of Trade it is our responsibility to showcase and support Surrey business industries and their economic impact\, as well as the bright young minds that will one day be leading these organizations. We are proud to partner with KPU   Kwantlen Polytechnic University on a KPU Career Crawl Bus Tour to display the many options one has when it comes to their career choice. \n\n \n\nBusiness Stops to be announced soon. \n\n \n\nSurrey's youth will be those individuals we will one day depend on to steer us in the right direction\, and it is imperative for them to know that there are always employers in the community who would deeply value their skills and assets. \n\n \n\nKPU students will tour 4-5 different businesses in Surrey to look at possible career options.
X-ALT-DESC;FMTTYPE=text/html:<h1><span style="font-size:small\;"><strong><span style="font-family:arial\;">KPU Career Crawl &ndash\; Bus Tour</span></strong></span></h1>\n&nbsp\;<br />\n<span style="font-size:small\;"><span style="font-family:arial\;">At the Surrey Board of Trade it is our responsibility to showcase and support Surrey business industries and their economic impact\, as well as the bright young minds that will one day be leading these organizations. We are proud to partner with KPU &ndash\; Kwantlen Polytechnic University on a KPU Career Crawl Bus Tour to display the many options one has when it comes to their career choice. </span></span><br />\n&nbsp\;<br />\n<strong><em><span style="font-size:small\;"><span style="font-family:arial\;">Business Stops to be announced soon. </span></span></em></strong><br />\n&nbsp\;<br />\n<span style="font-size:small\;"><span style="font-family:arial\;">Surrey&rsquo\;s youth will be those individuals we will one day depend on to steer us in the right direction\, and it is imperative for them to know that there are always employers in the community who would deeply value their skills and assets. </span></span><br />\n&nbsp\;<br />\n<span style="font-size:small\;"><span style="font-family:arial\;">KPU students will tour 4-5 different businesses in Surrey to look at possible career options. </span></span>
LOCATION:Kwantlen Polytechnic University (12666 72 Avenue\, Surrey\, BC)
UID:e.749.3641
SEQUENCE:3
DTSTAMP:20260423T212843Z
URL:https://business.swrbot.com/events/details/october-15-2015-kpu-career-crawl-bus-tour-10-15-2015-3641
END:VEVENT

END:VCALENDAR
