BEGIN:VCALENDAR
VERSION:2.0
PRODID:-//ChamberMaster//Event Calendar 2.0//EN
METHOD:PUBLISH
X-PUBLISHED-TTL:P3D
REFRESH-INTERVAL:P3D
CALSCALE:GREGORIAN
BEGIN:VEVENT
DTSTART:20141017T150000Z
DTEND:20141017T170000Z
X-MICROSOFT-CDO-ALLDAYEVENT:FALSE
SUMMARY:October 17\, 2014 - Newton Crime Breakfast
DESCRIPTION:Focus on Crime Reduction Solutions\n\n\n\nFeaturing guest speakers:\n\n  Mayor Dianne Watts\, City of Surrey\n\n  Chief Superintendent Bill Fordy and District Commander Marc Searle\, Surrey RCMP\n\n  Fraser Health Authority\n\n  Metro Vancouver Crime Stoppers\n\n\n\nPlease come prepared with questions or issues that your business would like to address.
X-ALT-DESC;FMTTYPE=text/html:<strong>Focus on Crime Reduction Solutions</strong><br />\n<br />\n<strong>Featuring guest speakers:</strong><br />\n&bull\; Mayor Dianne Watts\, City of Surrey<br />\n&bull\; Chief Superintendent Bill Fordy and District Commander Marc Searle\, Surrey RCMP<br />\n&bull\; Fraser Health Authority<br />\n&bull\; Metro Vancouver Crime Stoppers<br />\n<br />\nPlease come prepared with questions or issues that your business would like to address.
LOCATION:The Greek Corner #123 - 7218 King George Boulevard Surrey\, BC
UID:e.749.2804
SEQUENCE:3
DTSTAMP:20260425T152848Z
URL:https://business.swrbot.com/events/details/october-17-2014-newton-crime-breakfast-10-17-2014-2804
END:VEVENT

END:VCALENDAR
