BEGIN:VCALENDAR
VERSION:2.0
PRODID:-//ChamberMaster//Event Calendar 2.0//EN
METHOD:PUBLISH
X-PUBLISHED-TTL:P3D
REFRESH-INTERVAL:P3D
CALSCALE:GREGORIAN
BEGIN:VEVENT
DTSTART:20181018T010000Z
DTEND:20181018T030000Z
X-MICROSOFT-CDO-ALLDAYEVENT:FALSE
SUMMARY:October 17\, 2018 - 6th Manufacturing Industry Reception
DESCRIPTION:p.p1 {margin: 0.0px 0.0px 0.0px 0.0px\; font: 12.0px 'Univers LT Std'\; min-height: 14.0px}\np.p2 {margin: 0.0px 0.0px 0.0px 0.0px\; text-align: justify\; line-height: 12.1px\; font: 11.5px 'Univers LT Std'}\np.p3 {margin: 0.0px 0.0px 0.0px 0.0px\; font: 11.5px 'Univers LT Std'}\nspan.s1 {font: 12.0px 'Univers LT Std'}\n\n \n\nSurrey has the most number of manufacturers in BC. In celebration of Manufacturing Month\, the Surrey Board of Trade invites you to network with local manufacturers\, government officials\, and hear from the Industry Training Authority about the ITA Youth Trades Training Programs and how employers can hire and train young apprentices right from their local secondary schools.
X-ALT-DESC;FMTTYPE=text/html:<style type="text/css">p.p1 {margin: 0.0px 0.0px 0.0px 0.0px\; font: 12.0px 'Univers LT Std'\; min-height: 14.0px}\np.p2 {margin: 0.0px 0.0px 0.0px 0.0px\; text-align: justify\; line-height: 12.1px\; font: 11.5px 'Univers LT Std'}\np.p3 {margin: 0.0px 0.0px 0.0px 0.0px\; font: 11.5px 'Univers LT Std'}\nspan.s1 {font: 12.0px 'Univers LT Std'}\n</style>\n<p class="p1">&nbsp\;</p>\n\n<div class="p2">Surrey has the most number of manufacturers in BC. In celebration of Manufacturing Month\, the Surrey Board of Trade invites you to network with local manufacturers\, government officials\, and hear from the Industry Training Authority about the ITA Youth Trades Training Programs and how employers can hire and train young apprentices right from their local secondary schools.<br />\n<br />\n&nbsp\;</div>\n
LOCATION:Sheraton Guildford Vancouver Hotel 15269 104 Ave\, Surrey\, BC
UID:e.749.6704
SEQUENCE:3
DTSTAMP:20260421T053711Z
URL:https://business.swrbot.com/events/details/october-17-2018-6th-manufacturing-industry-reception-10-17-2018-6704
END:VEVENT

END:VCALENDAR
