BEGIN:VCALENDAR
VERSION:2.0
PRODID:-//ChamberMaster//Event Calendar 2.0//EN
METHOD:PUBLISH
X-PUBLISHED-TTL:P3D
REFRESH-INTERVAL:P3D
CALSCALE:GREGORIAN
BEGIN:VEVENT
DTSTART:20141003T010000Z
DTEND:20141003T030000Z
X-MICROSOFT-CDO-ALLDAYEVENT:FALSE
SUMMARY:October 2\, 2014 - Manufacturing Industry Reception
DESCRIPTION:Manufacturing Industry Reception    \n\nIn advance of the International Manufacturing and Steel Day\, the Surrey Board of Trade and the Canadian Manufacturers & Exporters - BC Chapter invites you to network with local manufacturers\, government officials\, education and business representatives.\n\n\n\n"At the Surrey Board of Trade it is our responsibility to showcase and support Surrey business industries and their economic impact. We are committed to do just that."\n\n    - Anita Huberman\, CEO\, Surrey Board of Trade\n\n\n\nJoin us as we showcase Surrey manufacturers\, and learn more about the industry that has the largest economic footprint on this province.\n\n\n\nPresenting Sponsor:\n\nSimon Fraser University
X-ALT-DESC;FMTTYPE=text/html:<strong>Manufacturing Industry Reception&nbsp\;&nbsp\;&nbsp\;&nbsp\;</strong><br />\nIn advance of the International Manufacturing and Steel Day\, the Surrey Board of Trade and the Canadian Manufacturers &amp\; Exporters - BC Chapter invites you to network with local manufacturers\, government officials\, education and business representatives.<br />\n<br />\n<em>&ldquo\;At the Surrey Board of Trade it is our responsibility to showcase and support Surrey business industries and their economic impact. We are committed to do just that.&rdquo\;<br />\n&nbsp\;&nbsp\; &nbsp\;- Anita Huberman\, CEO\, Surrey Board of Trade</em><br />\n<br />\nJoin us as we showcase Surrey manufacturers\, and learn more about the industry that has the largest economic footprint on this province.<br />\n<br />\nPresenting Sponsor:<br />\nSimon Fraser University
LOCATION:Sheraton Vancouver Guildford Hotel 15269 104 Avenue Surrey\, BC
UID:e.749.2671
SEQUENCE:3
DTSTAMP:20260425T151204Z
URL:https://business.swrbot.com/events/details/october-2-2014-manufacturing-industry-reception-10-02-2014-2671
END:VEVENT

END:VCALENDAR
