BEGIN:VCALENDAR
VERSION:2.0
PRODID:-//ChamberMaster//Event Calendar 2.0//EN
METHOD:PUBLISH
X-PUBLISHED-TTL:P3D
REFRESH-INTERVAL:P3D
CALSCALE:GREGORIAN
BEGIN:VEVENT
DTSTART:20181003T003000Z
DTEND:20181003T030000Z
X-MICROSOFT-CDO-ALLDAYEVENT:FALSE
SUMMARY:October 2\, 2018 - Business and the Arts Reception
DESCRIPTION:Attend the 15th Annual Business and the Arts Reception!\n\n\nYou and a guest are invited to the 11th Annual Surrey Civic Treasures Award Presentation at the Surrey Arts Centre\, where you'll meet Mayor and Council and applaud Surrey's newest Civic Treasures!\n \n\nJoin us for an energetic evening of networking\, food\, and entertainment!\np.p1 {margin: 0.0px 0.0px 0.0px 0.0px\; font: 12.0px 'Univers LT Std'\; min-height: 14.0px}\np.p2 {margin: 0.0px 0.0px 0.0px 0.0px\; line-height: 12.1px\; font: 14.0px 'Univers LT Std'\; color: #7f8183}\np.p3 {margin: 0.0px 0.0px 0.0px 0.0px\; font: 14.0px 'Univers LT Std'\; color: #7f8183}\np.p4 {margin: 0.0px 0.0px 0.0px 0.0px\; font: 14.0px 'Univers LT Std'\; color: #7f8183\; min-height: 17.0px}\np.p5 {margin: 0.0px 0.0px 0.0px 0.0px\; line-height: 14.1px\; font: 14.0px 'Univers LT Std'\; color: #7f8183}\nspan.s1 {font: 12.0px 'Univers LT Std'\; color: #000000}
X-ALT-DESC;FMTTYPE=text/html:<span style="font-size: 22px\;"><span style="font-family: arial\;"><strong>Attend the&nbsp\;15th&nbsp\;Annual Business and the Arts Reception!</strong></span></span>\n<p class="p2"><br />\n<span style="font-family:arial\;"><span style="color:#000000\;">You and a guest are invited to the 11th Annual Surrey Civic Treasures Award Presentation at the Surrey Arts Centre\, where you&rsquo\;ll meet Mayor and Council and applaud Surrey&rsquo\;s newest Civic Treasures!</span></span></p>\n&nbsp\;\n\n<p class="p5"><span style="font-family:arial\;"><span style="color:#000000\;">Join us for an energetic evening of networking\, food\, and entertainment!</span></span></p>\n<style type="text/css">p.p1 {margin: 0.0px 0.0px 0.0px 0.0px\; font: 12.0px 'Univers LT Std'\; min-height: 14.0px}\np.p2 {margin: 0.0px 0.0px 0.0px 0.0px\; line-height: 12.1px\; font: 14.0px 'Univers LT Std'\; color: #7f8183}\np.p3 {margin: 0.0px 0.0px 0.0px 0.0px\; font: 14.0px 'Univers LT Std'\; color: #7f8183}\np.p4 {margin: 0.0px 0.0px 0.0px 0.0px\; font: 14.0px 'Univers LT Std'\; color: #7f8183\; min-height: 17.0px}\np.p5 {margin: 0.0px 0.0px 0.0px 0.0px\; line-height: 14.1px\; font: 14.0px 'Univers LT Std'\; color: #7f8183}\nspan.s1 {font: 12.0px 'Univers LT Std'\; color: #000000}\n</style>\n
LOCATION:Surrey Arts Centre 13750 88 Avenue
UID:e.749.6785
SEQUENCE:3
DTSTAMP:20260421T042620Z
URL:https://business.swrbot.com/events/details/october-2-2018-business-and-the-arts-reception-10-02-2018-6785
END:VEVENT

END:VCALENDAR
