BEGIN:VCALENDAR
VERSION:2.0
PRODID:-//ChamberMaster//Event Calendar 2.0//EN
METHOD:PUBLISH
X-PUBLISHED-TTL:P3D
REFRESH-INTERVAL:P3D
CALSCALE:GREGORIAN
BEGIN:VEVENT
DTSTART:20101020T150000Z
DTEND:20101020T163000Z
X-MICROSOFT-CDO-ALLDAYEVENT:FALSE
SUMMARY:October 20\, 2010 - Networking Strategies Workshop
DESCRIPTION:How to Make Networking a Strategy of Your Board of Trade Membership and Your Business Design Your Networking System:Get the answers to your questions about networkingClarify your purpose and vision for successful networkingBuild an effective message for your businessDevelop confidence in delivering the messageLeave with a networking system to follow and build your business.\nFacilitated by: \nTim McKinnon\, Stride Business Coaching Tim's 30+ years experience in business started when he accepted a job with Simpsons Sears as a management trainee after graduating from BCIT with a marketing diploma in 1968. In 1973 he moved into the distribution side of the consumer electronics industry where he remained until starting his own business. Tim has been coaching and mentoring as a Sales Manager\, Branch Manager and General Manager of national and international consumer electronics distribution companies for more than 25 years in three provinces across Canada. And if that wasn't competitive enough in 1993 Tim started and grew a national PC distribution company to over 17.0M in revenue in 13 years. In September of 2007 Tim decided to make coaching his full time occupation when he became a licensed business coach with The Professional Business Coaches Alliance headquartered in Canton Ohio.This workshop is FREE and AVAILABLE to members ONLY Limit 20 attendees.
X-ALT-DESC;FMTTYPE=text/html:<div><div align="center"><font size="4"><strong>How to Make Networking a Strategy of Your Board of Trade Membership and Your Business </strong></font></div><p>Design Your Networking System:</p><ul><li>Get the answers to your questions about networking</li><li>Clarify your purpose and vision for successful networking</li><li>Build an effective message for your business</li><li>Develop confidence in delivering the message</li><li>Leave with a networking system to follow and build your business.</li></ul><p><br /><strong>Facilitated by: </strong><br />Tim McKinnon\, Stride Business Coaching Tim&rsquo\;s 30+ years experience in business started when he accepted a job with Simpsons Sears as a management trainee after graduating from BCIT with a marketing diploma in 1968. In 1973 he moved into the distribution side of the consumer electronics industry where he remained until starting his own business. Tim has been coaching and mentoring as a Sales Manager\, Branch Manager and General Manager of national and international consumer electronics distribution companies for more than 25 years in three provinces across Canada. And if that wasn&rsquo\;t competitive enough in 1993 Tim started and grew a national PC distribution company to over 17.0M in revenue in 13 years. In September of 2007 Tim decided to make coaching his full time occupation when he became a licensed business coach with The Professional Business Coaches Alliance headquartered in Canton Ohio.</p><p align="center"><strong>This workshop is FREE and AVAILABLE to members ONLY Limit 20 attendees.</strong></p></div>
LOCATION:Surrey Board of Trade Conference Room#101 - 14439 104 Avenue\, Surrey
UID:e.749.1660
SEQUENCE:3
DTSTAMP:20260422T113716Z
URL:https://business.swrbot.com/events/details/october-20-2010-networking-strategies-workshop-10-20-2010-1660
END:VEVENT

END:VCALENDAR
