BEGIN:VCALENDAR
VERSION:2.0
PRODID:-//ChamberMaster//Event Calendar 2.0//EN
METHOD:PUBLISH
X-PUBLISHED-TTL:P3D
REFRESH-INTERVAL:P3D
CALSCALE:GREGORIAN
BEGIN:VEVENT
DTSTART:20101021T150000Z
DTEND:20101021T170000Z
X-MICROSOFT-CDO-ALLDAYEVENT:FALSE
SUMMARY:October 21\, 2010 - Make Your Website Work for Your Business
DESCRIPTION:How to Make Your Website Work for Your Business\n\n	\n\n	One of the key's to running a successful business is having a website that works for you!\n\n	\n\n	Whether you're building a new website or updating your existing site\, this workshop will teach you how to create more business opportunities!\n\n	We will explore:\n\n	\n		Search Engine Optimization (SEO)\n	\n		Online Marketing - tips and trends\n	\n		Visual Presentation - how is your website perceived at first glance?\n	\n		How to use your website the RIGHT way and bring in more clients!\n\n\n	Workshop facilitated by Colin Sprake of Make Your Mark
X-ALT-DESC;FMTTYPE=text/html:<div>\n	<strong>How to Make Your Website Work for Your Business</strong><br />\n	<br />\n	One of the key&#39\;s to running a successful business is having a website that works for you!<br />\n	<br />\n	Whether you&#39\;re building a new website or updating your existing site\, this workshop will teach you how to create more business opportunities!<br />\n	We will explore:</div>\n<ul>\n	<li>\n		Search Engine Optimization (SEO)</li>\n	<li>\n		Online Marketing - tips and trends</li>\n	<li>\n		Visual Presentation - how is your website perceived at first glance?</li>\n	<li>\n		How to use your website the RIGHT way and bring in more clients!</li>\n</ul>\n<div>\n	Workshop facilitated by Colin&nbsp\;Sprake of Make Your Mark</div>\n
LOCATION:Surrey Board of Trade Conference Room #101 - 14439 104 Avenue\, Surrey
UID:e.749.1669
SEQUENCE:3
DTSTAMP:20260422T114112Z
URL:https://business.swrbot.com/events/details/october-21-2010-make-your-website-work-for-your-business-10-21-2010-1669
END:VEVENT

END:VCALENDAR
