BEGIN:VCALENDAR
VERSION:2.0
PRODID:-//ChamberMaster//Event Calendar 2.0//EN
METHOD:PUBLISH
X-PUBLISHED-TTL:P3D
REFRESH-INTERVAL:P3D
CALSCALE:GREGORIAN
BEGIN:VEVENT
DTSTART:20151021T150000Z
DTEND:20151021T170000Z
X-MICROSOFT-CDO-ALLDAYEVENT:FALSE
SUMMARY:October 21\, 2015 - Setting Up Your Trades Company For Success Workshop
DESCRIPTION:Are you too busy to plan out your business' goals for 2016?\n\n\n\nFor most trades and home service companies\, the busy season will be slowly winding down. It's now time to reflect on your learning from the year and create an intentional plan for 2016. While your competitors may be doing this in January\, the proactive approach is to start now!\n\n\n\nIn this session\, you will be given:\n\n\n	The fundamental tools of Priority Management to keep you proactive instead of reactive\n	A proven system to break down your annual goals into daily tasks so that you can minimize daily distractions \n	A 90 day plan that will ensure a fast launch into 2016\n\nThis workshop is facilitated by Danny Kerr of Breakthrough Academy.
X-ALT-DESC;FMTTYPE=text/html:<span style="font-size:12px"><span style="font-family:arial"><code style="font-family:inherit\;font-size:inherit\;font-weight:inherit\;color:inherit"><b>Are you too busy to plan out your business&rsquo\; goals for 2016?</b><br />\n<br />\nFor most trades and home service companies\, the busy season will be slowly winding down. It&rsquo\;s now time to reflect on your learning from the year and create an intentional plan for 2016. While your competitors may be doing this in January\, the proactive approach is to start now!<br />\n<br />\n<b>In this session\, you will be given:</b></code></span></span>\n\n<ul>\n	<li><span style="font-size:12px"><span style="font-family:arial">The fundamental tools of Priority Management to keep you proactive instead of reactive</span></span></li>\n	<li><span style="font-size:12px"><span style="font-family:arial">A proven system to break down your annual goals into daily tasks so that you can minimize daily distractions </span></span></li>\n	<li><span style="font-size:12px"><span style="font-family:arial">A 90 day plan that will ensure a fast launch into 2016</span></span></li>\n</ul>\n<span style="font-size:12px"><span style="font-family:arial">This workshop is facilitated by Danny Kerr of Breakthrough Academy.</span></span>
LOCATION:Surrey Board of Trade Conference Room 101-14439 104 Avenue\, Surrey
UID:e.749.3677
SEQUENCE:3
DTSTAMP:20260423T212628Z
URL:https://business.swrbot.com/events/details/october-21-2015-setting-up-your-trades-company-for-success-workshop-10-21-2015-3677
END:VEVENT

END:VCALENDAR
