BEGIN:VCALENDAR
VERSION:2.0
PRODID:-//ChamberMaster//Event Calendar 2.0//EN
METHOD:PUBLISH
X-PUBLISHED-TTL:P3D
REFRESH-INTERVAL:P3D
CALSCALE:GREGORIAN
BEGIN:VEVENT
DTSTART:20141021T143000Z
DTEND:20141021T163000Z
X-MICROSOFT-CDO-ALLDAYEVENT:FALSE
SUMMARY:October 21 - Invitation to KMPG Ent: Private Company Seminar Series
DESCRIPTION:Private Company Seminar Series\n\nYear-end Tax Planning and Accounting Update\n\n\n\nIn an ever-changing business environment\, KPMG Enterprise is committed to\n\nhelping you keep current on the significant accounting\, auditing and tax changes impacting private companies in Canada. Our experienced team will present key tax update topics and methods that can help you better plan and potentially help reduce corporate and personal taxation.\n\n\n\nSome of the topics include:\n\n	 Recent income and commodity tax changes\n	Year-end tax planning ideas to help reduce or defer taxes\n	 Recent accounting issues
X-ALT-DESC;FMTTYPE=text/html:<strong>Private Company Seminar Series</strong><br />\nYear-end Tax Planning and Accounting Update<br />\n<br />\nIn an ever-changing business environment\, KPMG Enterprise is committed to<br />\nhelping you keep current on the significant accounting\, auditing and tax changes impacting private companies in Canada. Our experienced team will present key tax update topics and methods that can help you better plan and potentially help reduce corporate and personal taxation.<br />\n<br />\nSome of the topics include:\n<ul>\n	<li>&nbsp\;Recent income and commodity tax changes</li>\n	<li>Year-end tax planning ideas to help reduce or defer taxes</li>\n	<li>&nbsp\;Recent accounting issues</li>\n</ul>\n<br />\n<br />\n&nbsp\;
LOCATION:The Coast Hotel & Convention Centre 20393 Fraser Highway Langley\, BC
UID:e.749.2806
SEQUENCE:3
DTSTAMP:20260425T153238Z
URL:https://business.swrbot.com/events/details/october-21-invitation-to-kmpg-ent-private-company-seminar-series-10-21-2014-2806
END:VEVENT

END:VCALENDAR
