BEGIN:VCALENDAR
VERSION:2.0
PRODID:-//ChamberMaster//Event Calendar 2.0//EN
METHOD:PUBLISH
X-PUBLISHED-TTL:P3D
REFRESH-INTERVAL:P3D
CALSCALE:GREGORIAN
BEGIN:VEVENT
DTSTART:20141023T000000Z
DTEND:20141023T020000Z
X-MICROSOFT-CDO-ALLDAYEVENT:FALSE
SUMMARY:October 22\, 2014 - Business Networking at Canadian Western Bank
DESCRIPTION:Business Networking at Canadian Western Bank\n\n\n\nThe Surrey Board of Trade and Canadian Western Bank Panorama Ridge are pleased to invite you to their 5th Annual Business to Business Networking Reception. Mix and mingle with entrepreneurs and business owners while enjoying appetizers\, a wine tasting and fantastic door prizes. Learn more about the Canadian Western Bank's full suite of business and personal banking products and services at cwbank.com. \n\n\n\nThis event is co-hosted with the Cloverdale Chamber of Commerce & the South Surrey & White Rock Chamber of Commerce.
X-ALT-DESC;FMTTYPE=text/html:<strong>Business Networking at Canadian Western Bank</strong><br />\n<br />\n<span style="font-family:arial\,helvetica\,sans-serif"><span style="color:rgb(0\,0\,0)"><font><span>The Surrey Board of Trade and Canadian Western Bank Panorama Ridge are pleased to invite you to their 5th Annual Business to Business Networking Reception. Mix and mingle with entrepreneurs and business owners while enjoying appetizers\, a wine tasting and fantastic door prizes. </span>Learn more about the Canadian Western Bank&rsquo\;s full suite of business and personal banking products and services at <a href="http://www.cwbank.com/" style="color:rgb(17\,85\,204)" target="_blank">cwbank.com.</a><a href="http://www.cwbank.com/" style="color:rgb(17\,85\,204)" target="_blank"> </a></font></span></span><br />\n<br />\n<span style="font-family:arial\,helvetica\,sans-serif"><span style="color:rgb(0\,0\,0)"><font><span><i>This event is co-hosted with the Cloverdale Chamber of Commerce &amp\; the South Surrey &amp\; White Rock Chamber of Commerce.</i></span></font></span></span><br />\n&nbsp\;
LOCATION:Canadian Western Bank Panorama 103 - 15230 Highway 10 Surrey\, BC
UID:e.749.2672
SEQUENCE:3
DTSTAMP:20260425T162956Z
URL:https://business.swrbot.com/events/details/october-22-2014-business-networking-at-canadian-western-bank-10-22-2014-2672
END:VEVENT

END:VCALENDAR
