BEGIN:VCALENDAR
VERSION:2.0
PRODID:-//ChamberMaster//Event Calendar 2.0//EN
METHOD:PUBLISH
X-PUBLISHED-TTL:P3D
REFRESH-INTERVAL:P3D
CALSCALE:GREGORIAN
BEGIN:VEVENT
DTSTART:20141022T144500Z
DTEND:20141022T170000Z
X-MICROSOFT-CDO-ALLDAYEVENT:FALSE
SUMMARY:October 22\, 2014 - Effective Retails Strategies PT 2
DESCRIPTION:Power Merchandising\n\n\n\nDiscover how to display your products so that it is easy to shop your store and promote multiple sales.\n\n	Understand the power an effective category adjacency have in creating multiple selling opportunities\n	Learn how to use merchandise categories to influence in-store traffic\n	Create defined merchandise stories that makes your shop easy to understand\n	Employ logical sequencing techniques to make shopping easy\n	Use merchandise placements to minimize the effect of dead zones and create destination points
X-ALT-DESC;FMTTYPE=text/html:<strong>Power Merchandising</strong><br />\n<br />\nDiscover how to display your products so that it is easy to shop your store and promote multiple sales.\n<ul>\n	<li>Understand the power an effective category adjacency have in creating multiple selling opportunities</li>\n	<li>Learn how to use merchandise categories to influence in-store traffic</li>\n	<li>Create defined merchandise stories that makes your shop easy to understand</li>\n	<li>Employ logical sequencing techniques to make shopping easy</li>\n	<li>Use merchandise placements to minimize the effect of dead zones and create destination points</li>\n</ul>\n
LOCATION:Surrey Board of Trade Conference Room 101 - 14439 104th Ave Surrey\, BC
UID:e.749.2684
SEQUENCE:3
DTSTAMP:20260425T153517Z
URL:https://business.swrbot.com/events/details/october-22-2014-effective-retails-strategies-pt-2-10-22-2014-2684
END:VEVENT

END:VCALENDAR
