BEGIN:VCALENDAR
VERSION:2.0
PRODID:-//ChamberMaster//Event Calendar 2.0//EN
METHOD:PUBLISH
X-PUBLISHED-TTL:P3D
REFRESH-INTERVAL:P3D
CALSCALE:GREGORIAN
BEGIN:VEVENT
DTSTART:20141022T143000Z
DTEND:20141022T160000Z
X-MICROSOFT-CDO-ALLDAYEVENT:FALSE
SUMMARY:October 22\, 2014 - Working with Partners - Enhancing Metro Vancouver Waterways
DESCRIPTION:Working with Partners - Enhancing Metro Vancouver Waterways\n\n\n\nFrom grass-roots stewardship groups to crown corporations\, Metro Vancouver is fortunate to work with many partners committed to revitalizing salmon habitat in the region. Join us to learn about three recently completed projects\, and how partners play a vital role in enhancing our region's waterways for salmon.\n\n\n\nWelcoming Remarks: \n\n\n	Heather Deal\, Chair\, Environment and Parks Committee\, Metro Vancouver\; Councillor\, City of Vancouver\n\nSpeakers:\n\n\n	Brian Smith\, Hatchery Manager\, Seymour Salmonid Society \n	Ross Davies\, Kanaka Education and Environmental Partnership Society (KEEPS) \n	Robin Taylor\, Environmental Manager\, PMH1\, Transportation Investment Corporation \n\nIf you plan to attend please RSVP\n\n\n\nFor more information about upcoming Metro Vancouver Sustainability Community Breakfasts please visit our website.
X-ALT-DESC;FMTTYPE=text/html:<span style="font-size:12px\;"><span style="font-family: arial\;"><strong>Working with Partners - Enhancing Metro Vancouver Waterways</strong><br />\n<br />\nFrom grass-roots stewardship groups to crown corporations\, Metro Vancouver is fortunate to work with many partners committed to&nbsp\;revitalizing salmon habitat in the region. Join us to learn about three recently completed projects\, and how partners play a vital role in enhancing our region&rsquo\;s waterways for salmon.<br />\n<br />\n<strong>Welcoming Remarks: </strong></span></span>\n\n<ul>\n	<li><span style="font-size:12px\;"><span style="font-family: arial\;"><strong>Heather Deal</strong><strong>\,</strong> Chair\, Environment and Parks Committee\, Metro Vancouver\; Councillor\, City of Vancouver</span></span></li>\n</ul>\n<span style="font-size:12px\;"><span style="font-family: arial\;"><strong>Speakers:</strong></span></span>\n\n<ul>\n	<li><span style="font-size:12px\;"><span style="font-family: arial\;"><strong>Brian Smith</strong>\, Hatchery Manager\, Seymour Salmonid Society </span></span></li>\n	<li><span style="font-size:12px\;"><span style="font-family: arial\;"><strong>Ross Davies</strong>\, Kanaka Education and Environmental Partnership Society (KEEPS) </span></span></li>\n	<li><span style="font-size:12px\;"><span style="font-family: arial\;"><strong>Robin Taylor</strong>\, Environmental Manager\, PMH1\, Transportation Investment Corporation </span></span></li>\n</ul>\n<span style="font-size:12px\;"><span style="font-family: arial\;"><strong>If you plan to attend</strong> please <a href="http://apps2.metrovancouver.org/sustainability/Smailing_list/EventRegistration.asp?EventID=219">RSVP</a><br />\n<br />\nFor more information about upcoming Metro Vancouver Sustainability Community Breakfasts please visit our <a href="http://www.metrovancouver.org/region/breakfasts/Pages/default.aspx" target="_blank">website</a>. </span></span><br />\n<br />\n&nbsp\;
LOCATION:British Columbia Institute of Technology 555 Seymour Street\, Vancouver
UID:e.749.2802
SEQUENCE:3
DTSTAMP:20260425T151847Z
URL:https://business.swrbot.com/events/details/october-22-2014-working-with-partners-enhancing-metro-vancouver-waterways-10-22-2014-2802
END:VEVENT

END:VCALENDAR
