BEGIN:VCALENDAR
VERSION:2.0
PRODID:-//ChamberMaster//Event Calendar 2.0//EN
METHOD:PUBLISH
X-PUBLISHED-TTL:P3D
REFRESH-INTERVAL:P3D
CALSCALE:GREGORIAN
BEGIN:VEVENT
DTSTART:20141024T144500Z
DTEND:20141024T170000Z
X-MICROSOFT-CDO-ALLDAYEVENT:FALSE
SUMMARY:October 24\, 2014 - Developing a Culture of Continuous Improvement Pt 1
DESCRIPTION:Developing a Culture of Continuous Improvement\n\nA Manufacturing Industry Series\n\n\n\nIt's a constant struggle\, we are always too busy fighting fires and fixing mistakes (quite often the same mistakes over and over again). How do we find the time to make any substantial improvements to our business. Imagine if every employee in your company was a good problem solver. Imagine your role as coach and resource\, not the solver of all problems. This 3 part series will help you develop your people as problem solvers and put you on the road towards Continuous Improvement.\n\n\n\nTopic: Top-Down it Starts with You\n\n  Empowering your employees - you want me\n\nto do what?\n\n  Preparing the employee to do more.\n\n  Building trust.\n\n  Defining success.\n\n  Set them up for success not failure.\n\n  Coaching to competence.
X-ALT-DESC;FMTTYPE=text/html:<strong>Developing a Culture of Continuous Improvement</strong><br />\nA Manufacturing Industry Series<br />\n<br />\nIt&rsquo\;s a constant struggle\, we are always too busy fighting fires and fixing mistakes (quite often the same mistakes over and over again). How do we find the time to make any substantial improvements to our business. Imagine if every employee in your company was a good problem solver. Imagine your role as coach and resource\, not the solver of all problems. This 3 part series will help you develop your people as problem solvers and put you on the road towards Continuous Improvement.<br />\n<br />\n<strong>Topic:</strong> <strong>Top-Down it Starts with You</strong><br />\n&bull\; Empowering your employees - you want me<br />\nto do what?<br />\n&bull\; Preparing the employee to do more.<br />\n&bull\; Building trust.<br />\n&bull\; Defining success.<br />\n&bull\; Set them up for success not failure.<br />\n&bull\; Coaching to competence.<br />\n&nbsp\;
LOCATION:Surrey Board of Trade Conference Room 101 - 14439 104th Ave\, Surrey
UID:e.749.2734
SEQUENCE:3
DTSTAMP:20260425T152434Z
URL:https://business.swrbot.com/events/details/october-24-2014-developing-a-culture-of-continuous-improvement-pt-1-10-24-2014-2734
END:VEVENT

END:VCALENDAR
