BEGIN:VCALENDAR
VERSION:2.0
PRODID:-//ChamberMaster//Event Calendar 2.0//EN
METHOD:PUBLISH
X-PUBLISHED-TTL:P3D
REFRESH-INTERVAL:P3D
CALSCALE:GREGORIAN
BEGIN:VEVENT
DTSTART:20161025T144500Z
DTEND:20161025T170000Z
X-MICROSOFT-CDO-ALLDAYEVENT:FALSE
SUMMARY:October 25\, 2016 - Double the Value of Your Business
DESCRIPTION:Business owners looking to grow\, accelerate expansion\, prepare for sale or succession\, and get out from underneath their business are encouraged to come learn about the keys to successfully accomplishing all of these things. For 18 years Wardell International has had an unprecedented track record of helping businesses double or more the value of their business\, and growing businesses from sales in the single-digit millions to double-digit millions\, while at the same time freeing up the business owner's time.   \n\nPresented by Wardell International
X-ALT-DESC;FMTTYPE=text/html:<div><span style="color:black\;"><span style="font-family:arial\,sans-serif\;"><span style="font-size:10.0pt\;">Business owners looking to grow\, accelerate expansion\, prepare for sale or succession\, and get out from underneath their business are encouraged to come learn about the keys to successfully accomplishing all of these things. For 18 years Wardell International has had an unprecedented track record of helping businesses double or more the value of their business\, and growing businesses from sales in the single-digit millions to double-digit millions\, while at the same time freeing up the business owner&#39\;s time. &nbsp\; </span></span></span><br />\n<strong><em><span style="color:black\;"><span style="font-family:arial\,sans-serif\;"><span style="font-size:10.0pt\;">Presented by Wardell International</span></span></span></em></strong></div>\n
LOCATION:Surrey Board of Trade Office 101\, 14439 104th Ave\, Surrey
UID:e.749.5113
SEQUENCE:3
DTSTAMP:20260424T083213Z
URL:https://business.swrbot.com/events/details/october-25-2016-double-the-value-of-your-business-10-25-2016-5113
END:VEVENT

END:VCALENDAR
