BEGIN:VCALENDAR
VERSION:2.0
PRODID:-//ChamberMaster//Event Calendar 2.0//EN
METHOD:PUBLISH
X-PUBLISHED-TTL:P3D
REFRESH-INTERVAL:P3D
CALSCALE:GREGORIAN
BEGIN:VEVENT
DTSTART:20181025T143000Z
DTEND:20181026T043000Z
X-MICROSOFT-CDO-ALLDAYEVENT:FALSE
SUMMARY:October 25\, 2018 - Uber\, Bikesharing\, Transit & Labour Impacts Dialogue
DESCRIPTION:Can you attend the Surrey Hot Topic on Uber\, Bikesharing\, Transit & Labour Impacts Dialogue on Thursday\, October 25?\n\n\n\nThe government of British Columbia is working with ICBC\, taxi companies\, and Ridesharing companies such as Mobi by Shaw to introduce easier and more accessible transportation options. Join the Surrey Board of Trade to discuss the impacts these changes will have on labour and the economy of Surrey on Thursday\, October 25 at Eaglequest Golf Course.\n\n\n\nHear from our panelists:\n\n- Meghan Winter - SFU Associate Professor\n\n- Michael van Hemman - Uber Vancouver\n\n- Mia Kohout - CycleHOP\n\n \n \nEvent payment is due upon registration. Cancellations for event attendance\, sponsorship\, or exhibitor space will not be refunded. An event registration is considered a commitment to pay. While event registration is non-refundable\, cancellations before three full business days of the event may be eligible for a credit towards a future event. Some exclusions apply.
X-ALT-DESC;FMTTYPE=text/html:<div>Can you attend the&nbsp\;<strong>Surrey Hot Topic on Uber\, Bikesharing\, Transit &amp\; Labour Impacts Dialogue o</strong><strong>n&nbsp\;Thursday\, October 25?</strong><br />\n<br />\nThe government of British Columbia is working with ICBC\, taxi companies\, and Ridesharing&nbsp\;companies such as Mobi by Shaw&nbsp\;to introduce easier and more accessible transportation options. Join the Surrey Board of Trade to discuss the impacts these changes will have on labour and the economy of Surrey on Thursday\, October 25 at Eaglequest Golf Course.<br />\n<br />\n<strong>Hear from our panelists:</strong></div>\n\n<div>- Meghan Winter - SFU Associate Professor</div>\n\n<div>- Michael van Hemman - Uber Vancouver</div>\n\n<div>- Mia Kohout - CycleHOP<br />\n&nbsp\;\n<hr />&nbsp\;\n<div style="color: rgb(34\, 34\, 34)\; font-family: Arial\, Helvetica\, sans-serif\; font-size: small\;"><em>Event payment is due upon registration. Cancellations for event attendance\, sponsorship\, or exhibitor space will not be refunded. An event registration is considered a commitment to pay. While event registration is non-refundable\, cancellations before three full business days of the event may be eligible for a credit towards a future event. Some exclusions apply.</em></div>\n</div>\n
LOCATION:Eaglequest Golf Course 7778 152 Street\, Surrey
UID:e.749.9784
SEQUENCE:3
DTSTAMP:20260421T041821Z
URL:https://business.swrbot.com/events/details/october-25-2018-uber-bikesharing-transit-labour-impacts-dialogue-10-25-2018-9784
END:VEVENT

END:VCALENDAR
