BEGIN:VCALENDAR
VERSION:2.0
PRODID:-//ChamberMaster//Event Calendar 2.0//EN
METHOD:PUBLISH
X-PUBLISHED-TTL:P3D
REFRESH-INTERVAL:P3D
CALSCALE:GREGORIAN
BEGIN:VEVENT
DTSTART;VALUE=DATE:20091027
DTEND;VALUE=DATE:20091028
TRANSP:TRANSPARENT
X-MICROSOFT-CDO-ALLDAYEVENT:TRUE
SUMMARY:October 27\, '09 - Networking at the Movies
DESCRIPTION:
X-ALT-DESC;FMTTYPE=text/html:
LOCATION:
UID:e.749.1546
SEQUENCE:3
DTSTAMP:20260423T085645Z
URL:https://business.swrbot.com/events/details/october-27-09-networking-at-the-movies-10-27-2009-1546
END:VEVENT

END:VCALENDAR
